BEGIN:VCALENDAR
VERSION:2.0
PRODID:-//tapahtumainfo.fi//NONSGML Il Trittico//EN
METHOD:REQUEST
BEGIN:VEVENT
UID:20260425T162108-2004167522-tapahtumainfo.fi
DTSTAMP:20260425T162108
DTSTART:20261205T190000Z
DTEND:20261205T020000Z
LOCATION:KPedu autonkorjaushalli
SUMMARY:Il Trittico
DESCRIPTION:<html><head></head><body>Keski-Pohjanmaan Kamarioopperayhdistys esittää Giacomo Puccinin Il Trittico. Kolme oopperaa yhden hinnalla!<br /><br />Keski-Pohjanmaan Kamariooppera esittää vahvasti paikallisen produktion Giacomo Puccinin Il Tritticosta, eli Il Tabarro, Suor Angelica ja Gianni Schicchi, kolme yhden tunnin oopperaa sävelletty esitettäväksi yhtenä kokonaisuutena.<br />Ohjauksesta vastaa Mats Holmqvist ja musiikkia johtaa Henriikka Teerikangas. Esiintyjätkaarti on koottu kasaan alueen huippuosaajista ja täydennetty vierailla muualta Suomesta.<br /><br />Ensi-ilta 27.11.  klo 19.00<br /><br />Lippu 60 € - Early bird 55 € 7.4. - 31.8.<br />Eläkeläinen 55 €<br />Opiskelija, työtön, varusmies 30 €<br />Lapsi -17v. 20 € Ikäsuositus 12+<br />Ryhmälippu 54,55 € minimi 11 henkilöä<br />Tukilippu 250 €<br /><br /> <br /><br />  Visit event in our website: <a href='https://tapahtumainfo.fi/tapahtuma/2026/11/il-trittico/441824'>Tapahtumainfo.fi</a></body></html>
END:VEVENT
END:VCALENDAR
