BEGIN:VCALENDAR
VERSION:2.0
PRODID:-//tapahtumainfo.fi//NONSGML Sceniskt berättande och samspel på scen//EN
METHOD:REQUEST
BEGIN:VEVENT
UID:20260420T085745-1083397558-tapahtumainfo.fi
DTSTAMP:20260420T085745
DTSTART:20260512T150000Z
DTEND:20260512T020000Z
LOCATION:Ritz
SUMMARY:Sceniskt berättande och samspel på scen
DESCRIPTION:<html><head></head><body>En masterclass med Peter Jöback och Nils-Petter Ankarblom<br /><br />Välkommen på en unik och inspirerande masterclass med artisten Peter Jöback och pianisten, kapellmästaren och arrangören Nils-Petter Ankarblom. Under masterclassen får publiken ta del av ett modererat artistsamtal om Peters och Nils-Petters karriärer, deras arbetssätt och hur deras samarbete vuxit fram. Under samtalet fördjupar de sig i sceniskt berättande - hur man bygger en musikalisk och dramatisk båge, hur samspelet på scen formas och hur man förmedlar en historia som verkligen berör.<br /><br />Samtalet varvas med personliga exempel, erfarenheter och konkreta insikter från Peters och Nils-Petters långa yrkesliv inom musik och scenkonst. Masterclassen avslutas med en öppen Q&A.<br /><br /><br />Ritz 12.5 kl. 15.00<br /><br />Biljett 29 €<br />DUNK & NMC medlem 19 €<br /><br />Längd ca 1 h<br /><br />Arrangörer: DUNK - De Ungas Musikförbund i Svenskfinland och Nordic Music Creators <br /><br />  Visit event in our website: <a href='https://tapahtumainfo.fi/tapahtuma/2026/05/sceniskt-berattande-och-samspel-pa-scen/441827'>Tapahtumainfo.fi</a></body></html>
END:VEVENT
END:VCALENDAR
