BEGIN:VCALENDAR
VERSION:2.0
PRODID:-//tapahtumainfo.fi//NONSGML Försommarfest - Sofie Svensson & Dom där och Dom Första//EN
METHOD:REQUEST
BEGIN:VEVENT
UID:20260420T013759-268862863-tapahtumainfo.fi
DTSTAMP:20260420T013759
DTSTART:20260613T210000Z
DTEND:20260613T020000Z
LOCATION:Åminne Folkpark
SUMMARY:Försommarfest - Sofie Svensson & Dom där och Dom Första
DESCRIPTION:<html><head></head><body>Tervetuloa unohtumattomaan iltaan Åminnen Folkparkissa lauantaina 13. kesäkuuta!<br /><br />Kun kesäyö on valoisimmillaan, kutsumme sinut viettämään oikeaa juhla-iltaa täynnä livemusiikkia, tanssia ja upeaa tunnelmaa.<br />Lavalla esiintyvät:<br />Sofie Svensson & Dom Där - tunnettu energisistä hiteistään ja mukaansatempaavista kappaleista, jotka saavat yleisön laulamaan mukana.<br />Dom Första - bändi, joka luo loistavan tunnelman ja tarjoaa rytmikästä musiikkia tanssilattialle.<br /><br />Ota ystävät mukaan, nauti kesäillasta ja koe ilta täynnä musiikkia, iloa ja yhdessäoloa Åminnen Folkparkissa.<br /><br />Päivämäärä: Lauantai 13.6<br />Aika: 21-01<br />Hinta: Ennakkoon 22 €, ovelta 25 €<br /><br />Tervetuloa juhlimaan kesän alkua Åminneen! <br /><br />  Visit event in our website: <a href='https://tapahtumainfo.fi/tapahtuma/2026/06/forsommarfest-sofie-svensson-dom-dar-och-dom-forsta/441828'>Tapahtumainfo.fi</a></body></html>
END:VEVENT
END:VCALENDAR
