BEGIN:VCALENDAR
VERSION:2.0
PRODID:-//tapahtumainfo.fi//NONSGML Lasse Stefanz & Tomas Fantz//EN
METHOD:REQUEST
BEGIN:VEVENT
UID:20260424T101329-1988431127-tapahtumainfo.fi
DTSTAMP:20260424T101329
DTSTART:20260717T200000Z
DTEND:20260717T020000Z
LOCATION:Åminne Folkpark
SUMMARY:Lasse Stefanz & Tomas Fantz
DESCRIPTION:<html><head></head><body>Perinne jatkuu - Tervetuloa upeaan tanssi-iltaan Åminnen Folkparkissa, kun Lasse Stefanz nousee lavalle!<br /><br />Voimme taata illan täynnä ihanaa musiikkia, iloa ja tanssia. Lasse Stefanzin lisäksi lavalle nousee myös pohjanmaalainen Tomas Fantz.<br />Ulkona vastaa partybandi Kurt Hagberg illan viihteestä!<br /><br />Ota ystävä kainaloon ja tule Åminneen keskikesän lämpöön tanssimaan aamuun asti!<br /><br />Päivämäärä: Perjantai 17.7<br />Aika: 20-02<br />Hinta: Ennakkoon 30 €, ovelta 35 €. <br />Alle 18-vuotiaat 10€ (vain ovelta) <br /><br />  Visit event in our website: <a href='https://tapahtumainfo.fi/tapahtuma/2026/07/lasse-stefanz-tomas-fantz/441829'>Tapahtumainfo.fi</a></body></html>
END:VEVENT
END:VCALENDAR
