BEGIN:VCALENDAR
VERSION:2.0
PRODID:-//tapahtumainfo.fi//NONSGML Pellingin musiikkipäivät 2026//EN
METHOD:REQUEST
BEGIN:VEVENT
UID:20260422T144512-704442161-tapahtumainfo.fi
DTSTAMP:20260422T144512
DTSTART:20260809T193000Z
DTEND:20260809T020000Z
LOCATION:Solhälla
SUMMARY:Pellingin musiikkipäivät 2026
DESCRIPTION:<html><head></head><body>”Drömlänges”<br />Torstai 6.8.2026 klo 19, Skärgårdshemmet<br />Frida ja Roland esittävät lauluja elämästä.<br />Frida Andersson, sång & Roland Junell kitara<br />Liput: á 29,50€. Jäsen 24,50€ Alle 12 vuotiaat lapset ilmaiseksi.<br /><br />”On this island”<br />Perjantai 7.8.2026 klo 19, Solhälla<br />Lauluja, ooppera- ja kamarimusiikkia<br />Benjamin Britten, György Ligeti, Nadia Boulanger, Philippe Gaubert.<br />Olivia Moss (laulu), Collin Hansen (piano), Monica Groop (laulu), Kaisa Kortelainen (huilu), Samuli Peltonen (sello), Johannes Piirto (piano)<br />Liput: á 29,50€. Jäsen 24,50€ Alle 12 vuotiaat lapset ilmaiseksi.<br /><br />”Vanhuuden syntejä”<br />Lauantai 8.8.2026 klo 14, Solhälla, kahvikonsertti<br />Gioacchino Rossinin säveltämää hauskaa salonkimusiikkia sekä duettoja<br />Johannes Piirto (piano) Kaisa Kortelainen(huilu), Samuli Peltonen (sello),<br />Olivia Moss (laulu), Monica Groop (laulu), Collin Hansen (piano)<br />Liput: á 33€. Jäsen 28 €Alle 12 vuotiaat lapset ilmaiseksi.<br />Kahvi ja kakku sisältyvät hintaan.<br /><br />”Todellinen romantikko”<br />Lauantai 8.8.2026 klo 18, Solhälla<br />Felix Mendelssohnin tuplakonsertto pianolle, viululle ja jousille.<br />Petteri Iivonen (viulu) Johannes Piirto (piano), Kaisa Kortelainen (huilu)<br />Rebecca Roozeman (viulu), Leena Jaakkola (viulu)<br />Eriikka Nylund (alttoviulu), Samuli Peltonen (sello), Teemu Kauppinen (kontrabasso)<br />Olivia Moss (laulu), Monica Groop (laulu), Collin Hansen (piano)<br />Liput: á 29,50€. Jäsen 24,50€ Alle 12 vuotiaat lapset ilmaiseksi.<br /><br />”Eine kleine Nachtmusik”<br />Lauantai 8.8.2026 klo 21, Pyhän Olavin kappeli<br />Rakkaudesta Mozartiin! W.A.Mozartin ja Ottorino Respighin kamarimusiikkia kynttilänvalossa.<br />Kaisa Kortelainen (huilu), Petteri Iivonen (viulu), Rebecca Roozeman (viulu),<br />Leena Jaakkola (viulu), Eriikka Nylund (alttoviulu), Samuli Peltonen (sello), Teemu Kauppinen (kontrabasso) <br />Liput: á 26€. Jäsen 21€ Alle 12 vuotiaat lapset ilmaiseksi.<br /><br />”Mestarin seurassa”<br />Sunnuntai 9.8.2026 klo 19.30, Porvoon tuomiokirkko<br />Mestaripianisti Sir András Schiffin sooloresitaali yllätysohjelmalla.<br />Liput: á 29,50€. Jäsen 24,50€ Alle 12 vuotiaat lapset ilmaiseksi.<br /> <br /><br />  Visit event in our website: <a href='https://tapahtumainfo.fi/tapahtuma/2026/08/pellingin-musiikkipaivat-2026/441831'>Tapahtumainfo.fi</a></body></html>
END:VEVENT
END:VCALENDAR
