BEGIN:VCALENDAR
VERSION:2.0
PRODID:-//tapahtumainfo.fi//NONSGML Viirun ja Pesosen joulu//EN
METHOD:REQUEST
BEGIN:VEVENT
UID:20260423T134400-647554078-tapahtumainfo.fi
DTSTAMP:20260423T134400
DTSTART:20261210T180000Z
DTEND:20261210T020000Z
LOCATION:Silkkisali
SUMMARY:Viirun ja Pesosen joulu
DESCRIPTION:<html><head></head><body>Teatteri Vantaa, Silkkisali, Tikkurilantie 44 / Silkkitehtaantie 5, 01300 Vantaa<br />www.teatterivantaa.fi<br /><br />to 26.11.2026 klo 18<br />la 28.11.2026 klo 11<br />to 10.122026. klo 9.30 ja 18.00<br /><br />Lähestyvä jouluaatto pistää Viiru-kissan ja Pesosen touhuihin vipinää. On tehtävä jouluvalmistelut, hankittava kuusi ja lahjojakin. Mutta suurimman pulman Pesoselle aiheuttaa Viirun toive: saada kylään ihka oikea joulupukki! Kaikki ei kuitenkaan suju kommelluksitta.<br /><br />Pohjautuu Sven Nordqvistin rakastettuihin lastenkirjoihin.<br /><br />Dramatisointi, ohjaus ja laulut: Kanerva Salomaa<br />Pesonen: Matti Pasanen<br />Ääninäyttelijät:  Anne Nielsen, Marko Putkonen ja Seppo Maijala.<br />Nuket, maski ja rekvisiitan valmistus: Terhi Ursin<br />Näytelmän oikeudet: Draken Teaterförlag<br /> <br />Ikäsuositus: alkaen 2v<br />Kesto: n. 30 min<br />Liput: arkiaamuisin 13 / 12 €,<br />arki-iltana ja lauantaisin 15 / 14 €, sis. Netticketin palvelumaksut<br /><br />Lippuvarauksia myös teatterin toimistosta 09 836 1919 tai sähköpostilla silkkisali@teatterivantaa.fi<br /><br />HUOM. Puolet permantopaikoista (mm. 2 pyörätuolipaikkaa) myydään teatterin toimistosta,<br />09 836 1919.<br /><br />Ovet avataan 30min ennen esitystä.<br />Cafe Silkki palvelee lauantaisin 30min ennen esityksiä.<br /> <br /><br />  Visit event in our website: <a href='https://tapahtumainfo.fi/tapahtuma/2026/11/viirun-ja-pesosen-joulu/441832'>Tapahtumainfo.fi</a></body></html>
END:VEVENT
END:VCALENDAR
