BEGIN:VCALENDAR
VERSION:2.0
PRODID:-//tapahtumainfo.fi//NONSGML Backyard for Kids//EN
METHOD:REQUEST
BEGIN:VEVENT
UID:20260425T133156-1821054845-tapahtumainfo.fi
DTSTAMP:20260425T133156
DTSTART:20260514T140000Z
DTEND:20260514T020000Z
LOCATION:Koivulahden Urheilukenttä
SUMMARY:Backyard for Kids
DESCRIPTION:<html><head></head><body>Koivulahden urheilukenttä 14.5.<br />Lämmittely 13.40<br />Lähtö 14.00<br />Ratakierros 400 metriä ja 6 minuuttia aikaa juosta yksi  kierros. Uusi startti 6 minuutin välein. Max 10 kierrosta. Jos ei ehdi 6 minuutin aikana kierrosta loppuun niin kisa päättyy juoksijan osalta ja siirrytään pois radalta. <br /><br />Tapahtuma on tarkoitettu vuonna 2013-2021 syntyneille lapsille.<br />Kaikille osallistujille mitali.<br /><br />Ilmoittautuminen päättyy 12.5. klo 23.59. Ei ilmoittautumista paikan päällä.<br /><br />Tähän tapahtumaan ei lähetetä erikseen tapahtumalippuja.<br />Kuitti toimii vahvistuksena maksetusta ilmoittautumisesta.<br /> <br /><br />  Visit event in our website: <a href='https://tapahtumainfo.fi/tapahtuma/2026/05/backyard-for-kids/441833'>Tapahtumainfo.fi</a></body></html>
END:VEVENT
END:VCALENDAR
