BEGIN:VCALENDAR
VERSION:2.0
PRODID:-//tapahtumainfo.fi//NONSGML Lysen stjärnor//EN
METHOD:REQUEST
BEGIN:VEVENT
UID:20260420T093726-1605982352-tapahtumainfo.fi
DTSTAMP:20260420T093726
DTSTART:20260502T170000Z
DTEND:20260502T020000Z
LOCATION:Arbetets Vänners festsal
SUMMARY:Lysen stjärnor
DESCRIPTION:<html><head></head><body>Välkommen att lyssna på vackra körverk! Temat för konserten är vårnattens mystik med musikstycken av bl.a. Valborg Aulin, Frank Ticheli, Nils-Eric Fougstedt, Andrea Eklund och Sven-David Sandström<br /><br />Arbetets Vänners festsal 2.5 kl 17.00<br /><br />Biljett 20 €<br />Studerande, arbetslösa, beväringar 15 €<br />Gratis för barn under 12 år<br /><br />Studentkören Pedavoces rf är en FSSMF-medlemskör.<br /> <br /><br />  Visit event in our website: <a href='https://tapahtumainfo.fi/tapahtuma/2026/05/lysen-stjarnor/441834'>Tapahtumainfo.fi</a></body></html>
END:VEVENT
END:VCALENDAR
