BEGIN:VCALENDAR
VERSION:2.0
PRODID:-//tapahtumainfo.fi//NONSGML Saiturin joulu//EN
METHOD:REQUEST
BEGIN:VEVENT
UID:20260420T141940-1079944647-tapahtumainfo.fi
DTSTAMP:20260420T141940
DTSTART:20261205T170000Z
DTEND:20261205T020000Z
LOCATION:Silkkisali
SUMMARY:Saiturin joulu
DESCRIPTION:<html><head></head><body>Teatteri Vantaa Silkkisali, Tikkurilantie 44 / Silkkitehtaatie 5, 01300 Vantaa<br />www.teatterivantaa.fi<br /><br />la 5.12. klo 17<br /><br />Saiturin joulu on hurmaava jouluesitys sinulle, joka rakastat musiikkia, hersyvää naurua ja Charles Dickensin tarinoiden maailmaa. <br /> <br />Englantilaisen Spymonkey-teatterin taiteellinen johtaja Toby Park teki paluunsa Suomeen ohjaamalla näyttämölle musiikillisen iloittelun yhdestä brittiläisen kulttuurin tunnetusta helmestä. Kekseliäs ja hulvaton esitys kiteyttää joulun ja ihmisyyden sanoman yhdistäen teatteria, fyysistä komediaa sekä musiikkia.<br /> <br />Näyttämöllä taituroivat Fabulous Bäckström Brothers -tuotannoista tutut Jouni ja Petri Bäckström sekä Reetta Ristimäki, jotka ovat saaneet rinnalleen upeaäänisen ja hurmaavan laulaja-näyttelijä Emmi Hatjasalon. Tätä Greta Tuotannon esitystä muistellaan lämmöllä vielä tulevinakin jouluina.<br /><br />Ikäsuositus: alkaen 7v<br />Kesto: n. 1h 40 min, sis. väliajan<br />Liput: 39 / 37 / 24 €, sis. Netticketin palvelumaksut<br />Ryhmävaraukset teatterin toimistosta, p. 09 836 1919.<br /><br />HUOM. Puolet permantopaikoista (mm. 2 pyörätuolipaikkaa) myydään teatterin toimistosta, p. 09 836 1919.<br /><br />Cafe Silkki palvelee tuntia ennen esitystä sekä väliajalla. Kahvilassa on anniskeluoikeus. Tervetuloa! <br /><br />  Visit event in our website: <a href='https://tapahtumainfo.fi/tapahtuma/2026/12/saiturin-joulu/441835'>Tapahtumainfo.fi</a></body></html>
END:VEVENT
END:VCALENDAR
