BEGIN:VCALENDAR
VERSION:2.0
PRODID:-//tapahtumainfo.fi//NONSGML Showcase 2026//EN
METHOD:REQUEST
BEGIN:VEVENT
UID:20260419T234900-1134199102-tapahtumainfo.fi
DTSTAMP:20260419T234900
DTSTART:20260506T170000Z
DTEND:20260506T020000Z
LOCATION:TryckeriTeatern
SUMMARY:Showcase 2026
DESCRIPTION:<html><head></head><body>Slutarbetet för studerandena på Lärkkulla Musical läsåret 2025-2026.<br /><br />TryckeriTeatern 6.5 kl. 17.00<br /><br />Biljett 10 €<br />Barn 0-12 år 5 €<br />Rullstolsplatser via NetTicket eller försäljningsställen<br /><br />Längd 180 min., 2 pauser<br /> <br /><br />  Visit event in our website: <a href='https://tapahtumainfo.fi/tapahtuma/2026/05/showcase-2026/441836'>Tapahtumainfo.fi</a></body></html>
END:VEVENT
END:VCALENDAR
