BEGIN:VCALENDAR
VERSION:2.0
PRODID:-//tapahtumainfo.fi//NONSGML Viiru ja Pesonen//EN
METHOD:REQUEST
BEGIN:VEVENT
UID:20260424T162405-560237740-tapahtumainfo.fi
DTSTAMP:20260424T162405
DTSTART:20261104T181500Z
DTEND:20261104T020000Z
LOCATION:Elissa
SUMMARY:Viiru ja Pesonen
DESCRIPTION:<html><head></head><body><b>Seinäjoen kaupunginteatteri</b><br /><b>Alvar Aallon katu 12, 60100 Seinäjoki</b><br /><br />Viiru ja Pesonen<br /><br />Ukko Pesonen asustelee yksinäisenä ja vailla puhekaveria mökissään, kunnes ystävällinen naapuri lahjoittaa hänelle pienen kissanpennun. Höperö-Ukko juttelee kissalleen päivät pitkät - ja kas eräänä päivänä kissa puhkeaa puhumaan, ainakin nyt Ukko Pesoselle.<br /><br />Siitä alkavat Viirun ja Pesosen yhteiset lokoisat päivät, joihin kuuluu hukkuneita ruuveja, pelottava turkkihirviö ja tietenkin lettukakkua.<br /><br />Teatteri Hevosenkengän Viiru ja Pesonen käsittelee tuttujen hahmojen kautta ystävyyttä ja yksinäisyyttä, ikuisia teemoja, jotka kiinnostavat vauvasta vaariin.<br /><br />Yli 3-vuotiaille.<br />Kesto n. 45 min<br /><br />Tekijät:<br />Dramatisointi ja ohjaus: Olka Horila<br />Lavastus ja puvut: Riikka Aurasmaa<br />Nuket: Fanni Lieto<br />Valosuunnittelu: Veijo Lindell<br />Musiikki ja äänisuunnittelu: Juha Matjussi<br />Rooleissa: Krista Putkonen-Örn ja Antero Nieminen<br /> <br /><br />  Visit event in our website: <a href='https://tapahtumainfo.fi/tapahtuma/2026/11/viiru-ja-pesonen/441838'>Tapahtumainfo.fi</a></body></html>
END:VEVENT
END:VCALENDAR
