BEGIN:VCALENDAR
VERSION:2.0
PRODID:-//tapahtumainfo.fi//NONSGML Jukka Puotila-show//EN
METHOD:REQUEST
BEGIN:VEVENT
UID:20260424T155738-1653530853-tapahtumainfo.fi
DTSTAMP:20260424T155738
DTSTART:20260903T183000Z
DTEND:20260903T020000Z
LOCATION:Silkkisali
SUMMARY:Jukka Puotila-show
DESCRIPTION:<html><head></head><body>Teatteri Vantaa, Silkkisali, Tikkurilantie 44 / Silkkitehtaantie 5, 01300 Vantaa<br />www.teatterivantaa.fi<br /><br />to 3.9.2026 klo 18.30<br /><br />Parasta nauruterapiaa: Jukka Puotilan legendaarinen yhdenmiehenshow Silkkisalin näyttämöllä!<br /><br />Jukka on yksi Suomen arvostetuimmista näyttelijöistä ja rakastetuin imitaattori. Jo yli kahden vuosikymmenen ajan yleisöä hurmannut show päivittyy joka kerta: perinteiset suosikkihahmot kohtaavat tuoreimmat puheenaiheet, pintajulkkiksista poliitikkoihin ja kaikkeen siltä väliltä.<br /><br />Puotilan vire ja tarkkuus ovat ilmiömäisiä: kymmenet äänet, eleet ja tyylit vaihtuvat sekunnin sadasosissa, ja illan aikana syntyy hetkiä, joissa katsoja melkein unohtaa, kuka on oikeasti lavalla. Esitys on kokonainen hyvän mielen ilta - sketsit, imitaatiot ja stand up kietoutuvat toisiinsa siten, että nauru aaltoilee katsomossa alusta loppuun.<br /><br />Tule kokemaan suomalaisen viihteen huippuosaaja livenä!<br /><br />Kesto: n. 2h, sis. väliajan<br />Huom. K18-tilaisuuksia (anniskeluoikeus myös teatterisalissa)<br />Liput: 48 / 46 / 24 €, sis. Netticketin palvelumaksut<br />Ryhmävaraukset teatterin toimistosta, p. 09 836 1919.<br /><br />HUOM. Puolet permantopaikoista (mm. 2 pyörätuolipaikkaa) myydään teatterin toimistosta, p. 09 836 1919.<br /><br />Cafe Silkki palvelee tuntia ennen esitystä sekä väliajalla. Kahvilassa ja salissa on anniskeluoikeus. Tervetuloa! <br /><br />  Visit event in our website: <a href='https://tapahtumainfo.fi/tapahtuma/2026/09/jukka-puotila-show/441839'>Tapahtumainfo.fi</a></body></html>
END:VEVENT
END:VCALENDAR
