BEGIN:VCALENDAR
VERSION:2.0
PRODID:-//tapahtumainfo.fi//NONSGML Allsång på Dansholmen 2026//EN
METHOD:REQUEST
BEGIN:VEVENT
UID:20260425T162122-1568173535-tapahtumainfo.fi
DTSTAMP:20260425T162122
DTSTART:20260722T180000Z
DTEND:20260722T020000Z
LOCATION:Tolkis Dansholmen
SUMMARY:Allsång på Dansholmen 2026
DESCRIPTION:<html><head></head><body>Allsång på Dansholmen återvänder den 22 juli 2026 kl 18.00. Evenemanget arrangeras för tredje gången och samlar en publik som tillsammans med lokala artister får uppleva en helkväll av gemenskap i musikens tecken.<br /><br />På scen kommer publiken att få se lokala svenskspråkiga artister uppträda med egenvalda låtar varvat med allsång som engagerar hela publiken. Evenemanget äger rum på den anrika danspaviljongen Dansholmen i Tolkis och bidrar till utbudet av svenskspråkiga kulturevenemang i Borgå med omnejd.<br /><br />Som konferencier fungerar Robert “Robbe” Jordas och på scen kommer publiken att få se:<br />Sarina Kettunen<br />Anssi Kamula & Nelli Gabrielson<br />Lovisette<br />Daniel Travis, Jussi Peltonen & Emmy Hellroos<br />Primavera<br /><br />Biljett 25 € (vid porten 30 €)<br />Barn från 6-12 år gratis (behöver egen biljett). Barn 0-5 år utan egen plats behöver ingen biljett.<br />Borgåbladets prenumerant 20 € till och med den 10.5<br />Understödsbiljett 30 € (Vän av evenemanget - för dig som vill stöda och bidra lite extra)<br /><br />Evenemangets längd: ca 2 timmar inklusive paus<br /><br />Vi förbehåller oss rätten till ändringar.<br /> <br /><br />  Visit event in our website: <a href='https://tapahtumainfo.fi/tapahtuma/2026/07/allsang-pa-dansholmen-2026/441840'>Tapahtumainfo.fi</a></body></html>
END:VEVENT
END:VCALENDAR
