BEGIN:VCALENDAR
VERSION:2.0
PRODID:-//tapahtumainfo.fi//NONSGML Dolly Style//EN
METHOD:REQUEST
BEGIN:VEVENT
UID:20260420T033124-1463941128-tapahtumainfo.fi
DTSTAMP:20260420T033124
DTSTART:20260927T150000Z
DTEND:20260927T020000Z
LOCATION:Kulturhuset Grand
SUMMARY:Dolly Style
DESCRIPTION:<html><head></head><body>Ruotsissa intensiivisen viime vuoden viettänyt Dolly Style saapuu syksyllä 2026 ensimmäiselle omalle kiertueelleen Suomeen. Yhtye teki vuoden aikana Ruotsissa 138 keikkaa ja nousi laajaan huomioon osallistuttuaan Melodifestivaleniin 2025, joka on Ruotsin Euroviisukarsinta. Syyskuussa 2026 Holly, Polly, Molly ja Yolly nähdään yhdeksällä paikkakunnalla eri puolilla Suomea.<br /><br />Pe 4.9. klo 18:00 Ritz, Vaasa<br />La 5.9. klo 15:00 & 18.00 Frans Henriksonssalen, Närpiö<br />Su 13.9. klo. 15:00 Schaumansali, Pietarsaari<br />La 26.9. klo. 12:00, 15:00 & 18.00 Karelia, Tammisaari<br />Su 27.9. klo. 15:00 Grand, Porvoo<br /><br />Lippu 29,90 €<br /><br />Kesto noin 45 min., ei väliaika<br /><br />Vuonna 2014 perustettu Dolly Style on vuosien varrella luonut täysin oman tunnistettavan ilmeensä ruotsalaisen popin kentällä. Värikäs tyyli, vahva suhde yleisöön sekä ilon, yhteisöllisyyden ja oman itsensä hyväksymisen sanoma ovat tehneet yhtyeestä yleisön suosikin.<br /> <br /><br />  Visit event in our website: <a href='https://tapahtumainfo.fi/tapahtuma/2026/09/dolly-style/441841'>Tapahtumainfo.fi</a></body></html>
END:VEVENT
END:VCALENDAR
