BEGIN:VCALENDAR
VERSION:2.0
PRODID:-//tapahtumainfo.fi//NONSGML DAD HARMONY(SWE)//EN
METHOD:REQUEST
BEGIN:VEVENT
UID:20260424T092607-1675350392-tapahtumainfo.fi
DTSTAMP:20260424T092607
DTSTART:20261008T190000Z
DTEND:20261008T020000Z
LOCATION:Schaumansali
SUMMARY:DAD HARMONY(SWE)
DESCRIPTION:<html><head></head><body>Ruotsalainen a cappella -ilmiö Dad Harmony saapuu Suomeen lokakuussa.<br /><br />Skellefteåsta kotoisin oleva viisihenkinen lauluyhtye nousi maailmanlaajuiseen suosioon sosiaalisen median kautta, kun heidän harmoniset a cappella -versionsa tunnetuista kappaleista levisivät viraalisti. Yhtye koostuu viidestä isästä, joiden lämmin ja helposti lähestyttävä tyyli on hurmannut miljoonia kuulijoita ympäri maailmaa. <br /><br />Schaumansali 8.10. klo 19.00<br /><br />Lippu 59 €<br /><br />Dad Harmonyn musiikissa yhdistyvät vahvat stemmat, tunteikkaat tulkinnat ja intiimi tunnelma. Heidän esityksensä ovat saaneet kiitosta erityisesti aitoudestaan - kappaleet syntyvät usein arkisissa hetkissä, kuten kotona perheen keskellä.<br /><br />Yhtye on esiintynyt kansainvälisesti muun muassa televisio-ohjelmissa ja loppuunmyydyillä konserttikiertueilla, ja heidän suosionsa on kasvanut nopeasti myös Euroopassa. <br /><br />Suomen-keikoilla yleisö pääsee kokemaan Dad Harmonyn ainutlaatuisen tunnelman livenä - luvassa on rakastettuja cover-kappaleita, upeita harmonioita sekä lämminhenkinen konserttielämys, joka tuo kuulijat lähelle esiintyjiä. <br /><br />  Visit event in our website: <a href='https://tapahtumainfo.fi/tapahtuma/2026/10/dad-harmony-swe/441842'>Tapahtumainfo.fi</a></body></html>
END:VEVENT
END:VCALENDAR
