BEGIN:VCALENDAR
VERSION:2.0
PRODID:-//tapahtumainfo.fi//NONSGML Höstfest - 1G3B & Invincia//EN
METHOD:REQUEST
BEGIN:VEVENT
UID:20260420T051541-1678361799-tapahtumainfo.fi
DTSTAMP:20260420T051541
DTSTART:20260912T200000Z
DTEND:20260912T020000Z
LOCATION:Åminne Folkpark
SUMMARY:Höstfest - 1G3B & Invincia
DESCRIPTION:<html><head></head><body>Yhdistämme kesän ihanat illat päätökseen rock-illalla syyskuussa!<br /><br />Lavalla nähdään kaikkien tuntemat murrehardrockarit 1G3B! Seurana esiintyy myös Invincia, joka viihdyttää illan aikana!<br /><br />Åminne Folkpark 12.9. 20.00-01.00<br /><br />Hinta: Ennakkoliput 25 €, ovelta 30 €<br />Huom! Ikäraja: 18 vuotta (K-18) <br /><br />  Visit event in our website: <a href='https://tapahtumainfo.fi/tapahtuma/2026/09/hostfest-1g3b-invincia/441843'>Tapahtumainfo.fi</a></body></html>
END:VEVENT
END:VCALENDAR
