BEGIN:VCALENDAR
VERSION:2.0
PRODID:-//tapahtumainfo.fi//NONSGML Maskinisterna//EN
METHOD:REQUEST
BEGIN:VEVENT
UID:20260423T121114-1486152245-tapahtumainfo.fi
DTSTAMP:20260423T121114
DTSTART:20260710T190000Z
DTEND:20260710T020000Z
LOCATION:Vridläktaren - Närpes Teater
SUMMARY:Maskinisterna
DESCRIPTION:<html><head></head><body>Succén återvänder sommaren 2026! I vår nyskrivna teaterpjäs Maskinisterna, signerad den hyllade Erik Kiviniemi, tar vi dig med till början av 1900-talet, där bröderna Wickström i Vasa satte igång en motorrevolution. I en tid av hårt arbete, tekniska utmaningar och våghalsiga lösningar kämpade de för att ge fiskare och bönder i regionen en pålitlig motor. Men<br />vägen till framgång var allt annat än enkel. Spruckna gjutgods, överhettade motorer och brandfarlig tändning satte både nerver och företag på prov.<br /><br />Biljetter: 28 €<br />Barn: 18 € under 16 år<br />Genrep 26.6: 21 €  / 13 €<br />Grupper: 25 € (minst 15 personer)<br />(priserna inklusive serviceavgift)<br /><br />Programblad och pausservering ingår i biljettpriset<br /><br />Längd ca 2,5h inklusive paus<br /><br />INGEN BILJETTFÖRSÄLJNING I DÖRREN! Köp din biljett i tid! <br /><br />  Visit event in our website: <a href='https://tapahtumainfo.fi/tapahtuma/2026/06/maskinisterna/441844'>Tapahtumainfo.fi</a></body></html>
END:VEVENT
END:VCALENDAR
