BEGIN:VCALENDAR
VERSION:2.0
PRODID:-//tapahtumainfo.fi//NONSGML Surf Meets Big Band//EN
METHOD:REQUEST
BEGIN:VEVENT
UID:20260420T094614-40295951-tapahtumainfo.fi
DTSTAMP:20260420T094614
DTSTART:20260502T190000Z
DTEND:20260502T020000Z
LOCATION:Schaumansali
SUMMARY:Surf Meets Big Band
DESCRIPTION:<html><head></head><body>"Surf Meets Big Band" 2.5 Schaumansalissa on ainutlaatuinen yhteistyöprojekti Masters Of The Universityn ja Jakob Big Bandin välillä - kaksi vahvaa musiikillista voimaa - Pietarsaaressa, jotka kohtaavat rohkeassa ja leikkisässä crossover-konseptissa.<br /><br />Projektin takana on Johan Emet, joka on sovittanut tunnettuja TV- ja elokuvamelodioita sekä klassisia surffikappaleita big bandille. Tuloksena on värikäs soundi, jossa kaikua täynnä oleva surf-kitara kohtaa täyden big bandin voimakkaan äänen - yhdistelmä, joka sekä yllättää että vangitsee yleisön.<br /><br />Lippu 20 €<br />Opiskelija 10€<br />Lapsi 0-17 vapaa pääsy <br /><br />  Visit event in our website: <a href='https://tapahtumainfo.fi/tapahtuma/2026/05/surf-meets-big-band/441846'>Tapahtumainfo.fi</a></body></html>
END:VEVENT
END:VCALENDAR
