BEGIN:VCALENDAR
VERSION:2.0
PRODID:-//tapahtumainfo.fi//NONSGML Barnkören Körvana - Vår Första Konsert//EN
METHOD:REQUEST
BEGIN:VEVENT
UID:20260424T170253-1957389614-tapahtumainfo.fi
DTSTAMP:20260424T170253
DTSTART:20260507T180000Z
DTEND:20260507T020000Z
LOCATION:Yttermalax skola
SUMMARY:Barnkören Körvana - Vår Första Konsert
DESCRIPTION:<html><head></head><body>Barnkören Körvana bildades hösten 2024 och består av ca. 40 sångare från både Ytter- och Övermalax skola från årskurserna 3-6. Körvana ordnar nu sin första egna konsert i Yttermalax skola. På konserten får publiken höra den repertoar som kören hittills övat in. Det blir kanonsånger, klassiska körsånger och moderna poplåtar. <br /><br />Kören ackompanjeras av ett högklassigt band med Marcus Granfors, Tobias Tåg och Andreas Bäcklund. Konserten får även besök av aktuella österbottniska artisten Josefin Sirén.<br /><br />Yttermalax skola 7.5. kl. 18.00<br />Dörrarna öppnas 17.15<br /><br />Biljett 15 €<br />Barn 0-13 år 10 €<br /><br />Längd 45 min.<br /><br />Kom med på en oförglömlig kväll och njut av den sångarglädje våra sångare bjuder på. Efter konserten ordnas servering (3 €).<br /><br />Kören leds av Anna Holmsten och Fredrik Kullberg.<br /><br />Barnkören Körvana hör till nätverket Min Kör (DUNK). <br /><br />  Visit event in our website: <a href='https://tapahtumainfo.fi/tapahtuma/2026/05/barnkoren-korvana-var-forsta-konsert/441847'>Tapahtumainfo.fi</a></body></html>
END:VEVENT
END:VCALENDAR
