BEGIN:VCALENDAR
VERSION:2.0
PRODID:-//tapahtumainfo.fi//NONSGML Sommarfest på Fyren//EN
METHOD:REQUEST
BEGIN:VEVENT
UID:20260420T004655-1111686665-tapahtumainfo.fi
DTSTAMP:20260420T004655
DTSTART:20260725T190000Z
DTEND:20260725T020000Z
LOCATION:Restaurang Fyren
SUMMARY:Sommarfest på Fyren
DESCRIPTION:<html><head></head><body>Sommarfest på Fyren i Ekenäs 25.7!<br /><br />TRR TRR TRR står för kvällens huvudnummer, tillsammans med Ludde Entertainment och MR DJ.<br /><br />Kvällen bjuder på livemusik, feststämning och dans från start till slut.<br />20:00-21:00 - Ludde Entertainment (live på terrassen)<br />22:00-00:00 - TRR TRR TRR (kvällens huvudnummer)<br />00:00-02:00 - MR DJ (efterfest)<br />Insläpp från kl. 19:00.<br /><br />Biljetter: 15 € (förköp) / 18 € (vid dörren)<br /><br />Ta med vännerna och upplev en riktig sommarkväll med fullt ös!<br /><br />Evenemanget hålls både utomhus (terrassen) och inomhus.<br />Kom i tid för att få ut det mesta av hela kvällen! <br /><br />  Visit event in our website: <a href='https://tapahtumainfo.fi/tapahtuma/2026/07/sommarfest-pa-fyren/441849'>Tapahtumainfo.fi</a></body></html>
END:VEVENT
END:VCALENDAR
