BEGIN:VCALENDAR
VERSION:2.0
PRODID:-//tapahtumainfo.fi//NONSGML Improvisoitu näytelmä//EN
METHOD:REQUEST
BEGIN:VEVENT
UID:20260422T203013-1535762305-tapahtumainfo.fi
DTSTAMP:20260422T203013
DTSTART:20260526T190000Z
DTEND:20260526T020000Z
LOCATION:Vinssisali
SUMMARY:Improvisoitu näytelmä
DESCRIPTION:<html><head></head><body>Tikkurilan Teatterikoulun Improvisaatio-ryhmä esittää:<br /><br />Improvisoitu näytelmä<br />Improvisoitu näytelmä on ilta, jossa mikään ei ole valmista - ja juuri siksi kaikki on mahdollista. Syventävien opintojen Improvisaatio-ryhmä rakentaa esityksen tyhjästä yleisön ideoiden, hetkessä syntyvien oivallusten ja näyttelijöiden rohkean heittäytymisen varaan. Jokainen kohtaus syntyy tässä ja nyt: hahmot, juonenkäänteet, tunnelmat ja yllätykset muotoutuvat silmien edessä ilman käsikirjoitusta.<br />Luvassa on nopeaa reagointia, hulvattomia tilanteita, yllättäviä tarinoita ja hetkiä, joita ei voi koskaan toistaa. Esitys on kunnianosoitus luovuudelle, yhteistyölle ja sille maagiselle hetkelle, kun näyttelijät ja yleisö hengittävät samaa esitystä.<br /><br />ESITYKSET:<br /><br />LA 16.5. klo 15.00 (osana Virtaa!-festivaalia)<br /><br />SU 17.5. klo 16.00 (osana Virtaa!-festivaalia)<br /><br />MA 18.5. klo 19.00<br /><br />MA 25.5. klo 19.00<br /><br />Ohjaava opettaja: Tuukka Tiihonen<br /><br />Lavalla:<br />Improvisaatio-ryhmän oppilaat<br /><br />Esitys on Kulttuuritehdas Vernissan Vinssisalissa, 3. krs (osoite Tikkurilantie 36, 01300 Vantaa)<br /><br />Esityksen kesto: n. 1,5 h<br /><br />Esityksiin vain ennakkoliput 12 € / kpl. Alle 18-vuotiaat pääsevät esityksiin maksutta. Alle 18-vuotiaat voivat lunastaa vapaalipun NetTicketin ennakkomyynnistä.<br /> <br /><br />  Visit event in our website: <a href='https://tapahtumainfo.fi/tapahtuma/2026/05/improvisoitu-naytelma/441851'>Tapahtumainfo.fi</a></body></html>
END:VEVENT
END:VCALENDAR
