BEGIN:VCALENDAR
VERSION:2.0
PRODID:-//tapahtumainfo.fi//NONSGML Jag har inte tid - Sista chansen tour//EN
METHOD:REQUEST
BEGIN:VEVENT
UID:20260424T121627-765618663-tapahtumainfo.fi
DTSTAMP:20260424T121627
DTSTART:20261017T190000Z
DTEND:20261017T020000Z
LOCATION:Ritz, Parvi-K18
SUMMARY:Jag har inte tid - Sista chansen tour
DESCRIPTION:<html><head></head><body>Efter helt slutsålda föreställningar och en succéturné genom Sverige är det dags igen - men nu för allra sista gången. <br /><br />Andreas Forsén Jonsson åker ut på sin "Sista chansen tour" - en sista sväng genom Sverige och Finland för dig som missade showen första gången… eller bara vill uppleva den igen. <br /><br />Det här är en humorföreställning om något vi alla säger, men få av oss verkligen förstår: tid. <br />Med sin unika kombination av humor, värme och träffsäker igenkänning bjuder Andreas Forsén Jonsson på en kväll fylld av skrattsalvor, livsreflektioner och oväntade insikter om det <br />där som så många av oss jagar varje dag. <br /><br />16.10 kl. 19.00 Schaumansalen, Jakobstad<br />17.10 kl. 19.00 Ritz, Vasa<br /><br />Early bird 35 € fram till den 30 april<br />Normalpris 55 €<br />Gruppbiljett 45 €, minst 5 personer<br /><br />Observera - fotografering sker under showen!<br /><br />Längd ca 2,5h med paus<br /><br />Rekommenderad ålder: Från 13 år och uppåt. <br /><br />  Visit event in our website: <a href='https://tapahtumainfo.fi/tapahtuma/2026/10/jag-har-inte-tid-sista-chansen-tour/441852'>Tapahtumainfo.fi</a></body></html>
END:VEVENT
END:VCALENDAR
