BEGIN:VCALENDAR
VERSION:2.0
PRODID:-//tapahtumainfo.fi//NONSGML VVS 50 Cup & Stara//EN
METHOD:REQUEST
BEGIN:VEVENT
UID:20260420T080714-1983763875-tapahtumainfo.fi
DTSTAMP:20260420T080714
DTSTART:20260502T110000Z
DTEND:20260502T020000Z
LOCATION:Vantaan Energia Areena
SUMMARY:VVS 50 Cup & Stara
DESCRIPTION:<html><head></head><body>Aikuinen 16 € (koko päivä)<br />Lapsi alle 12v. 8 € (koko päivä)<br /><br />Blokki 1. 11:00<br />(Stara, 10-12 ja 8-10)<br />Noin 13:00 tauko + palkintojenjako<br />Blokki 2. 13:45<br />(12-14SM, 14-16K)<br />Noin 15:30 tauko + palkintojenjako<br />Blokki 3. 16:00<br />(12-14K, 16-18K ja yli 18K)<br />Noin 18:00 palkintojenjako<br /><br />https://kisanet.fi/#/event/details/4454/summary <br /><br />  Visit event in our website: <a href='https://tapahtumainfo.fi/tapahtuma/2026/05/vvs-50-cup-stara/441853'>Tapahtumainfo.fi</a></body></html>
END:VEVENT
END:VCALENDAR
