BEGIN:VCALENDAR
VERSION:2.0
PRODID:-//tapahtumainfo.fi//NONSGML VVS 50 kevätnäytös//EN
METHOD:REQUEST
BEGIN:VEVENT
UID:20260420T080801-466682734-tapahtumainfo.fi
DTSTAMP:20260420T080801
DTSTART:20260503T143000Z
DTEND:20260503T020000Z
LOCATION:Vantaan Energia Areena
SUMMARY:VVS 50 kevätnäytös
DESCRIPTION:<html><head></head><body>Vantaan Voimisteluseuran 50v juhlavuoden kevätnäytökset järjestetään Energia areenalla sunnuntaina 3.5.2026. Ensimmäinen näytös klo 10-11:30, toinen näytös klo 12:15-13:30 ja kolmas näytös klo 14:30-15:45. Tervetuloa katsomaan Vantaan Voimisteluseuran kevätnäytöksiä!<br /><br />Aikuinen - yksi näytös 15 €<br />Lapsi alle 12v. -yksi näytös 8 €<br />Aikuinen - Useampi näytös 20 €<br />Lapsi alle 12v. - Useampi näytös 13 €<br />Sylilapset ilmaiseksi<br /><br />https://vvs.myclub.fi/flow/events/8894961 <br /><br />  Visit event in our website: <a href='https://tapahtumainfo.fi/tapahtuma/2026/05/vvs-50-kevatnaytos/441854'>Tapahtumainfo.fi</a></body></html>
END:VEVENT
END:VCALENDAR
