BEGIN:VCALENDAR
VERSION:2.0
PRODID:-//tapahtumainfo.fi//NONSGML HJF Cup 2026//EN
METHOD:REQUEST
BEGIN:VEVENT
UID:20260422T114235-68034830-tapahtumainfo.fi
DTSTAMP:20260422T114235
DTSTART:20260426T105500Z
DTEND:20260426T020000Z
LOCATION:Martinhalli
SUMMARY:HJF Cup 2026
DESCRIPTION:<html><head></head><body>Tervetuloa Hyvinkään Voimistelu ja Liikunnan sekä Hyvinkään ja Järvenpään HJF-seurayhteistyön järjestämään HJF Cupiin Hyvinkäälle!<br /><br />Hinnasto<br />Aikuiset (yli 12v): 15€ / päivä<br />Lapset (5-12v): 5€ / päivä<br />Alle 5-vuotiaat ilmaiseksi (ei tarvitse omaa lippua)<br /><br />Kilpailun kulkua ja tuloksia voi seurata Kisanetin kautta:<br />https://kisanet.fi/#/event/details/4597<br /><br />Lauantai 25.4.<br />8:30 Kisahalli aukeaa<br />10:00 Tuomaripalaveri<br />10:55 Kilpailuiden avaus<br />11:00-13:05 Suoritukset blokki 1 (16-18v harrastekilpa, yli 45v harraste, 8-10v)<br />13:05 Tauko 45min, sekä tauon alkuun palkintojenjako 16-18v harrastekilpa ja yli 45v harraste, sekä 8-10v kunniamainintojen jako<br />13:50-15:40 Suoritukset blokki 2 (yli 25v ja 35v harraste, sekä 14-16v harrastekilpa)<br />15:40 Tauko 30min, sekä tauon alkuun palkintojenjako yli 25v ja 35v harraste, sekä 14-16 harrastekilpa<br />16:10-19:00 Suoritukset blokki 3 ja blokki sisältää lyhyen tauon (12-14v ja yli 18v harrastekilpa)<br />19:00 Palkintojenjako 12-14v ja yli 18v harrastekilpa<br />19:15 Kilpailut päättyvät<br />20:00 Kisahalli sulkeutuu<br /><br />Sunnuntai 26.4.<br />8:30 Kisahalli aukeaa<br />10:15 Tuomaripalaveri<br />10:55 Kilpailuiden avaus<br />11:00-11:40 Suoritukset blokki 1 (Yli 18v kilpa)<br />11:40-12:45 Suoritukset blokki 2 (16-18v kilpa ja 10-12v)<br />12:45 Tauko 45min, sekä tauon alkuun palkintojenjako yli 18v ja 16-18v kilpa<br />13:30-15:20 Suoritukset blokki 3 (14-16v kilpa ja 10-12v jatkuu)<br />15:20 Tauko 30min, sekä tauon alkuun palkintojenjako 10-12v ja 14-16v kilpa<br />15:50-18:20 Suoritukset blokki 4 ja blokki sisältää lyhyen tauon (12-14v kilpa ja 8-12v harraste)<br />18:20 Palkintojenjako 12-14v kilpa ja 8-12v harraste kunniamainintojen jako<br />18:30 Kilpailut päättyvät<br />19:15 Kisahalli sulkeutuu<br /><br /><br />Hinnasto<br />Aikuiset (yli 12v): 15€ / päivä<br />Lapset (5-12v): 5€ / päivä<br />Alle 5-vuotiaat ilmaiseksi (ei tarvitse omaa lippua)<br /><br />Tapahtuman kuva: Emma Dubb <br /><br />  Visit event in our website: <a href='https://tapahtumainfo.fi/tapahtuma/2026/04/hjf-cup-2026/441855'>Tapahtumainfo.fi</a></body></html>
END:VEVENT
END:VCALENDAR
