BEGIN:VCALENDAR
VERSION:2.0
PRODID:-//tapahtumainfo.fi//NONSGML HERÄTÄ KUN ON KEVÄTSÄÄ: Erakossa//EN
METHOD:REQUEST
BEGIN:VEVENT
UID:20260425T133338-1775157310-tapahtumainfo.fi
DTSTAMP:20260425T133338
DTSTART:20260509T020000Z
DTEND:20260509T020000Z
LOCATION:Skenesali
SUMMARY:HERÄTÄ KUN ON KEVÄTSÄÄ: Erakossa
DESCRIPTION:<html><head></head><body><p>Kevät ei kysy lupaa. Se tulee, murtaa ja herättää. Myös talviuniaan viettäneet pop'n'rollin kuninkaat eli <strong>Erakossa</strong> Partycrewin. Viime syksyllä julkaistu järjestyksessään viides Erakossa albumi <em>Syysmyrsky</em> on jo historiaa, mutta sillä tehtiin pyyntö, johon nyt vastataan: <strong>Herätä kun on kevätsää</strong>. Herätyskello on ajoitettuna lauantaille 9.5. ja tällä kertaa sen ääni ei ole ärsyttävä vaan ilahduttava. Kello soi vain kerran ja kyseessä on kevään ainoa julkinen Erakossa keikka.&nbsp;<br></p><br /><p><strong>ERAKOSSA</strong>&nbsp;</p><br /><p>Vuonna 2014 perustettu ja yli 17 miljoonaa kertaa pelkästään Spotifyssä kuunneltu Erakossa on multi-instrumentalisti ja multi-mitä-tahansa -hahmo Niko Ailamon yhden miehen pop'n'roll studiokokoonpano, jonka historiaan mahtuu monenlaista mediahuomiota ja levy-yhtiöseikkailuja, mutta kaiken ytimessä on kokoajan ollut tee-se-itse tekeminen.&nbsp;</p><br /><p>Live-muodossaan lavalla nähdään <strong>Erakossa Partycrew</strong>, johon sinäkin voit liittyä mukaan saapumalla paikalle. Keikoilla päädyt musiikilliselle matkalle, joka kulkee popballadeista punkrock-kuorolaulannan kautta rap- ja rock-pysäkeille – eikä kukaan jää yksin.&nbsp;</p><br /><p>Tunnetuimpia Erakossa-kappaleita ovat mm. kultasinglerajan ylittänyt <em>"Tää on nähty"</em>, juhlakappale <em>"Nollaus"</em>, B-puolesta kultasingleksi nouseva <em>"Hylky"</em>, radiosoittoakin saanut <em>"Löysään Hirteen"</em>, useissa urheilutapahtumissa soiva <em>"Tänään on matsi"</em>, mediassa kehutut <em>"Ai vittu kun sattuu"</em> ja <em>"Niin pimeä mä oon"</em> sekä kesähitti <em>"Kesä aikaa"</em>.&nbsp;</p><br /><p>"Erakossa on ilahduttavan outo, hämmentävä ja monella tasolla kiehtova musiikillinen ilmiö, joka pistää silmään persoonallisuudessaan tässä toisinaan hieman harmaassa suomalaisessa musiikkikentässä." – Mika Roth&nbsp;<br></p><br /><p><a target="_blank" rel="noreferrer" class="text-blue-500" href="http://www.erakossa.net/">www.erakossa.net</a></p><br /><p><strong>Aikatauluinfo<br></strong>Ovet klo 20:00<br>Erakossa 21:00</p><br /><br /><p>Skenesali on rouhea musiikkiklubi aivan Myyrmäen aseman vieressä! Paikalle pääset kätevästi monesta eri suunnasta niin bussilla kuin junalla. Helsingin keskustasta pääset esimerkiksi reilussa vartissa paikan päälle AB-lipulla. Skenesalin sisäänkäynti sijaitsee Ravintola Topparin vieressä kävelykatoksessa.&nbsp;</p><br /><p>Paikan päällä peritään kaikilta 3€ eteispalvelumaksu, joka oikeuttaa käymään rajattomasti narikassa.&nbsp;</p><br /><p><strong>Saavutettavuus</strong><br>Tapahtumaan on esteetön sisäänkäynti. Esteettömyys puutteellista portaiden takia. Avustajan kanssa mahdollista kulkea vaihtoehtoista reittiä Skenesaliin. Esteetön WC eri kerroksessa, johon kulku järjestettävissä. Olethan yhteydessä, niin järjestetään kulku. Kulun järjestäminen onnistuu toki myös paikan päällä ilmoittamalla, mutta otamme tiedon mieluusti etukäteen. joonas@velmu.net<br>Tapahtumassa on esteettömät kulkureitit <br>Tapahtumassa on esteetön WC <br>Asiakkaan avustaja pääsee maksutta <br>Tapahtumassa ei ole lainattavia apuvälineitä <br>Tapahtumassa ei ole luiskalla varustettua katsomokoroketta <br>Tapahtumassa ei ole mahdollisuutta induktiosilmukan ja kuuluvuuskartan käyttöön <br>Tapahtumaan ei ole saatavilla pyörätuolilippua</p><br /><p>Peruslippu ovella: 18,00 €</p> <br /><br />  Visit event in our website: <a href='https://tapahtumainfo.fi/tapahtuma/2026/05/herata-kun-on-kevatsaa-erakossa/441856'>Tapahtumainfo.fi</a></body></html>
END:VEVENT
END:VCALENDAR
