BEGIN:VCALENDAR
VERSION:2.0
PRODID:-//tapahtumainfo.fi//NONSGML Joku Iiris + Kristiina, Kobran Kädet -dj:t//EN
METHOD:REQUEST
BEGIN:VEVENT
UID:20260425T133523-104541782-tapahtumainfo.fi
DTSTAMP:20260425T133523
DTSTART:20260509T020000Z
DTEND:20260509T020000Z
LOCATION:Kulttuuritalo Telakka
SUMMARY:Joku Iiris + Kristiina, Kobran Kädet -dj:t
DESCRIPTION:<html><head></head><body><h2>Joku Iiris -levynjulkaisukeikka + Kristiina, Kobran Kädet -dj:t&nbsp;Telakalla toukokuussa!</h2><br /><br /><p><strong>Esteettömyys: </strong><br>Avustaja pääsee tapahtumaan ilmaiseksi avustettavan kanssa samalla lipulla: <strong>kyllä</strong><br>Tapahtumaan on esteetön pääsy pyörätuolilla: <strong>ei</strong><br>Tapahtumassa on pyörätuolikoroke:<strong> ei</strong><br>Pyörätuolia<br /> käyttävää tai erityistä avustusta tarvitsevaa asiakasta pyydetään <br />olemaan etukäteen yhteydessä sujuvan sisäänpääsyn varmistamiseksi:<strong> Esteettömyydestä voi olla etukäteen yhteydessä ravintolan yleiseen numeroon 03 2250700.</strong></p> <br /><br />  Visit event in our website: <a href='https://tapahtumainfo.fi/tapahtuma/2026/05/joku-iiris-kristiina-kobran-kadet-dj-t/441857'>Tapahtumainfo.fi</a></body></html>
END:VEVENT
END:VCALENDAR
