BEGIN:VCALENDAR
VERSION:2.0
PRODID:-//tapahtumainfo.fi//NONSGML Seinäjoki -Helmi Pohjanmaan//EN
METHOD:REQUEST
BEGIN:VEVENT
UID:20260422T114330-1911955469-tapahtumainfo.fi
DTSTAMP:20260422T114330
DTSTART:20260524T180000Z
DTEND:20260524T020000Z
LOCATION:Seinäjoen nuorisokeskus
SUMMARY:Seinäjoki -Helmi Pohjanmaan
DESCRIPTION:<html><head></head><body>Seinäjoki, Helmi Pohjanmaan kertoo tarinan tämän päivän Seinäjoesta, sen ihmisistä ja ilmiöistä. Mikä ja missä on Seinäjoen henki?<br /><br />Seinäjoki, Helmi Pohjanmaan on kooste vuoden aikana tehdyistä Kaupunkikeskusteluja-sarjan pienoisnäytelmistä.<br />Esityksessä seikkaillaan seinäjokisille tutuissa paikoissa ja mukana on myös paljon tuttuja hahmoja - niin kaduilta, kuin kabineteista.<br /><br />Näytelmän kirjoittamista on tukenut Alfred Kordeliniin säätiön Seinäjoen rahasto.<br /><br />Lippu 14 €<br /><br />Kesto 1h 15min. <br /><br />  Visit event in our website: <a href='https://tapahtumainfo.fi/tapahtuma/2026/05/seinajoki-helmi-pohjanmaan/441859'>Tapahtumainfo.fi</a></body></html>
END:VEVENT
END:VCALENDAR
