BEGIN:VCALENDAR
VERSION:2.0
PRODID:-//tapahtumainfo.fi//NONSGML FBTL - Moulin Rouge//EN
METHOD:REQUEST
BEGIN:VEVENT
UID:20260423T130249-497165291-tapahtumainfo.fi
DTSTAMP:20260423T130249
DTSTART:20260820T190000Z
DTEND:20260820T020000Z
LOCATION:Pitkäniemen tehdasalue
SUMMARY:FBTL - Moulin Rouge
DESCRIPTION:<html><head></head><body><b>To 20.8.2026 klo 19 FBTL päälava </b><br /><br />Moulin Rouge! on Baz Luhrmannin ohjaama musikaalielokuva vuodelta 2001, ja sen päärooleissa nähdään Nicole Kidman ja Ewan McGregor. Elokuvassa intohimoinen, nuori kirjailija Christian saapuu Pariisiin ja rakastuu Moulin Rouge -yökerhon tähtikurtisaaniin, Satineen. Myös klubin suojelija himoitsee Satinen kiintymystä, ja siitä syntyy vaarallinen rakkauskolmio. Palkintoehdokkuuksia napannut viihdyttävä elokuva sisältää myös koko maailman valloittanutta musiikkia, kuten Lady Marmalade. Moulin Rouge! on elämys, jota ei voi koskaan unohtaa! <br /><br />Kesto: noin 2 h 11 min (Filmikelanvaihto vie muutaman minuutin.) <br /><br />Osoite: Pitkäniemen tehdasalue, Kotkantie, Lohja<br />Päälava (eli halli nro 5, venehalli)  <br /><br /><b>La 22.8.2026 klo 20 FBTL päälava </b><br /><br />Illan aikana kuullaan rakastetuimpia hittejä uusin ja tuorein sovituksin, kun Suurlähettiläät yhdistävät voimansa Lohjan kaupunginorkesterin muusikoiden kanssa. Konsertti kutsuu yleisön mukaan laulamaan, tunnelmoimaan ja eläytymään tuttujen melodioiden vietäväksi.  <br /><br />Osoite: Pitkäniemen tehdasalue, Kotkantie, Lohja<br />Päälava (eli halli nro 5, venehalli)  <br /><br />Yhteislippu 75€ sisältää kaikki FBTL - maksulliset. Moulin Rouge, Movie Classics ja Suurlähettiläät & Lohjan kaupunginorkesteri<br /><br /><b>lippuhinnat 10€ NetTicket.fi</b> <br /><br />  Visit event in our website: <a href='https://tapahtumainfo.fi/tapahtuma/2026/08/fbtl-moulin-rouge/441860'>Tapahtumainfo.fi</a></body></html>
END:VEVENT
END:VCALENDAR
