BEGIN:VCALENDAR
VERSION:2.0
PRODID:-//tapahtumainfo.fi//NONSGML Jukka Puotila Show//EN
METHOD:REQUEST
BEGIN:VEVENT
UID:20260425T145302-458581976-tapahtumainfo.fi
DTSTAMP:20260425T145302
DTSTART:20261128T180000Z
DTEND:20261128T020000Z
LOCATION:Alvar
SUMMARY:Jukka Puotila Show
DESCRIPTION:<html><head></head><body><b>Seinäjoen kaupunginteatteri</b><br /><b>Alvar Aallon katu 12, 60100 Seinäjoki</b><br /><br />Hekotusta ja tyylikkäitä iskuja vyön ylle ja alle<br /><br />Jukka Puotila - yksi Suomen arvostetuimmista näyttelijöistä ja rakastetuin imitaattori - palaa Seinäjoen kaupunginteatterin näyttämölle Jukka Puotila Show’lla.<br /><br />Jo yli kahden vuosikymmenen ajan yleisöä hurmannut show päivittyy joka kerta: perinteiset suosikkihahmot kohtaavat tuoreimmat puheenaiheet, pintajulkkiksista poliitikkoihin ja kaikkeen siltä väliltä.<br /><br />Puotilan vire ja tarkkuus ovat ilmiömäisiä: kymmenet äänet, eleet ja tyylit vaihtuvat sekunnin sadasosissa, ja illan aikana syntyy hetkiä, joissa katsoja melkein unohtaa, kuka on oikeasti lavalla. <br /><br />Esitys on kokonainen hyvän mielen ilta - sketsit, imitaatiot ja stand up kietoutuvat toisiinsa siten, että nauru aaltoilee katsomossa alusta loppuun.<br /><br />Tule kokemaan suomalaisen viihteen huippuosaaja livenä!<br /> <br /><br />  Visit event in our website: <a href='https://tapahtumainfo.fi/tapahtuma/2026/11/jukka-puotila-show/441861'>Tapahtumainfo.fi</a></body></html>
END:VEVENT
END:VCALENDAR
