BEGIN:VCALENDAR
VERSION:2.0
PRODID:-//tapahtumainfo.fi//NONSGML FBTL - Suurlähettiläät & Lohjan kaupunginorkesteri//EN
METHOD:REQUEST
BEGIN:VEVENT
UID:20260421T054846-711288375-tapahtumainfo.fi
DTSTAMP:20260421T054846
DTSTART:20260822T200000Z
DTEND:20260822T020000Z
LOCATION:Pitkäniemen tehdasalue
SUMMARY:FBTL - Suurlähettiläät & Lohjan kaupunginorkesteri
DESCRIPTION:<html><head></head><body><b>La 22.8.2026 klo 20 FBTL päälava </b><br /><br />Illan aikana kuullaan rakastetuimpia hittejä uusin ja tuorein sovituksin, kun Suurlähettiläät yhdistävät voimansa Lohjan kaupunginorkesterin muusikoiden kanssa. Konsertti kutsuu yleisön mukaan laulamaan, tunnelmoimaan ja eläytymään tuttujen melodioiden vietäväksi.  <br /><br />Osoite: Pitkäniemen tehdasalue, Kotkantie, Lohja<br />Päälava (eli halli nro 5, venehalli)  <br /><br />Yhteislippu 75€ sisältää kaikki FBTL - maksulliset. Moulin Rouge, Movie Classics ja Suurlähettiläät & Lohjan kaupunginorkesteri<br /><br /><b>lippuhinnat 30 / 35€ NetTicket.fi</b> <br /><br />  Visit event in our website: <a href='https://tapahtumainfo.fi/tapahtuma/2026/08/fbtl-suurlahettilaat-lohjan-kaupunginorkesteri/441862'>Tapahtumainfo.fi</a></body></html>
END:VEVENT
END:VCALENDAR
