BEGIN:VCALENDAR
VERSION:2.0
PRODID:-//tapahtumainfo.fi//NONSGML FBTL - Movie Classics//EN
METHOD:REQUEST
BEGIN:VEVENT
UID:20260421T213133-892142258-tapahtumainfo.fi
DTSTAMP:20260421T213133
DTSTART:20260821T190000Z
DTEND:20260821T020000Z
LOCATION:Pitkäniemen tehdasalue
SUMMARY:FBTL - Movie Classics
DESCRIPTION:<html><head></head><body><b>Pe 21.8.2026 klo 19 FBTL päälava </b><br /><br />Movie Classics -konsertti vie sinut elokuvamusiikin taianomaiseen maailmaan. Lohjan kaupunginorkesteri herättää henkiin rakastetuimmat sävelmät valkokankaalta, ja upeana solistina loistaa Maria Ylipää. Illan aikana koetaan jännitystä, romantiikkaa ja seikkailuja tuttujen elokuvasävelmien siivittämänä.<br /><br />Osoite: Pitkäniemen tehdasalue, Kotkantie, Lohja<br />Päälava (eli halli nro 5, venehalli)  <br /><br />Yhteislippu 75€ sisältää kaikki FBTL - maksulliset. Moulin Rouge, Movie Classics ja Suurlähettiläät & Lohjan kaupunginorkesteri<br /><br /><b>lippuhinnat 30 / 35€ NetTicket.fi</b> <br /><br />  Visit event in our website: <a href='https://tapahtumainfo.fi/tapahtuma/2026/08/fbtl-movie-classics/441863'>Tapahtumainfo.fi</a></body></html>
END:VEVENT
END:VCALENDAR
