BEGIN:VCALENDAR
VERSION:2.0
PRODID:-//tapahtumainfo.fi//NONSGML Profilkonsert i Riddarhuset//EN
METHOD:REQUEST
BEGIN:VEVENT
UID:20260422T114215-612023520-tapahtumainfo.fi
DTSTAMP:20260422T114215
DTSTART:20260612T193000Z
DTEND:20260612T020000Z
LOCATION:Riddarhuset
SUMMARY:Profilkonsert i Riddarhuset
DESCRIPTION:<html><head></head><body>Fredag 12.6.2026 samlas några av Finlands toppensembler för att uppträda med profilkonserter i samband med Sångoch musikfesten 2026. I Riddarhuset får ni höra fem körer som kommer bjuda på både stämningsfull och svängig musik, i en samlingskonsert tillsammans. Det är ett unikt tillfälle att höra flera fantastiska körer under en och samma konsert.<br /><br />Körer:<br />Exaudio<br />Tretti karar<br />Let Us Be Frank<br />Muntra Musikanter<br />Evivakören<br /><br />12.6 kl. 19:30 - 21:30, ink. 10min paus<br /><br />Biljett 25€<br />Pensionär, studerande, beväring & arbetslös 10€<br />Sångfestdeltagare 5€ (Uppvisa sångfestpasset vid dörren) <br /><br />  Visit event in our website: <a href='https://tapahtumainfo.fi/tapahtuma/2026/06/profilkonsert-i-riddarhuset/441864'>Tapahtumainfo.fi</a></body></html>
END:VEVENT
END:VCALENDAR
