BEGIN:VCALENDAR
VERSION:2.0
PRODID:-//tapahtumainfo.fi//NONSGML Profilkonsert med blåsorkestrar//EN
METHOD:REQUEST
BEGIN:VEVENT
UID:20260424T113036-869196631-tapahtumainfo.fi
DTSTAMP:20260424T113036
DTSTART:20260612T193000Z
DTEND:20260612T020000Z
LOCATION:Balders sal
SUMMARY:Profilkonsert med blåsorkestrar
DESCRIPTION:<html><head></head><body>Fredag 12.6.2026 samlas några av Finlands toppensembler för att uppträda med profilkonserter i samband med Sångoch musikfesten 2026. <br />I Balders sal får vi höra två blåsmusikensembler från Österbotten bjuda på mångsidig repertoar:<br />Malax Hornseptett<br />Jeppo Ungdomsorkester<br /><br />12.6 kl. 19:30 - 21:30, ink. 20min paus<br /><br />Biljett 25€<br />Pensionär, studerande, beväring & arbetslös 10€<br />Sångfestdeltagare 5€ (Uppvisa sångfestpasset vid dörren)<br /> <br /><br />  Visit event in our website: <a href='https://tapahtumainfo.fi/tapahtuma/2026/06/profilkonsert-med-blasorkestrar/441865'>Tapahtumainfo.fi</a></body></html>
END:VEVENT
END:VCALENDAR
