BEGIN:VCALENDAR
VERSION:2.0
PRODID:-//tapahtumainfo.fi//NONSGML Mr Bo & Voodooers//EN
METHOD:REQUEST
BEGIN:VEVENT
UID:20260425T133305-327630104-tapahtumainfo.fi
DTSTAMP:20260425T133305
DTSTART:20260515T020000Z
DTEND:20260515T020000Z
LOCATION:Nakkilan Verstas
SUMMARY:Mr Bo & Voodooers
DESCRIPTION:<html><head></head><body><p>Mr Bo & The Voodooers palaavat toukokuussa Nakkilan Verstaalle - luvassa on tiukka setti perinteistä bluesia kuuntelevan ja tanssivan yleisön iloksi. Bändi täyttää tänä vuonna 30 vuotta, mitä juhlistetaan myös tämän jo neljännen peräkkäisen Suomenkiertueen keikoilla.</p><br /><p>Mr Bo & The Voodooers kuuluu Ruotsin blues-skenen arvostetuimpaan ja nimekkäimpään kaartiin. Mr Bo/Bo Carlsson perusti Voodooers-yhtyeen vuonna 1996, mutta jo tätä ennen hän oli tullut tunnetuksi ja yleisön rakastamaksi yhtyeidensä Mr Bo Blues Band, Mr Bo & The Boosters ja Nightcats kanssa. Bon intensiivinen laulutyyli ja hänen omaperäinen ja voimakas kitarasoundinsa ovat nostaneet kaikki hänen bändinsä nopeasti yleisön suosikkibändien joukkoon.</p><br /><p>1980-luvulta lähtien Bo kiersi Pohjoismaita myös amerikkalaisten bluesmuusikoiden, mm. Lefty Dizzin ja Jimmy Dawkinsin kanssa. Viimeisimpiin yhteiskiertueisiin kuuluvat Bon ja Voodooersin vuosina 2020 ja 2021 tekemät kaksi menestyksekästä kiertuetta amerikkalaisen kitaravirtuoosi Chris Cainen kanssa.</p><br /><p>Bo itse kertoo matkustaneensa 17-vuotiaana Ruotsin halki kuulemaan tuolloin 23-vuotiaan Ruotsin blueskuninkaaksi kutsutun Sven Zetterbergin keikkaa. Sven oli ilman muuta yksi Bon inspiraation lähteitä hänen omalle sukellukselleen bluesin ja nimenomaan Chicago-bluesin maailmaan. Amerikkalaisista bluesin suurmiehistä Bo mainitsee ensimmäisiksi vaikuttajikseen eritoten B.B.Kingin ja Albert Kingin.</p><br /><p>Voodooers-bändissä soittavat Bon lisäksi Lars Mellqvist (basso), Roger Mörck (rummut) ja Bo Hansson (Hammond-urut).</p><br /><p>Keikkalipun hinta 20€ sisältää valitsemasi juoman: iso hanajuoma/vapaavalintainen drinkki tai 16 cl viini.</p><br /><p><strong><u>Aikataulu:</u></strong><br>Ovet auki yleisölle klo 19:30<br>Showtime 21:30&nbsp;</p><br /><p>Tervetuloa!</p><br /><br /><p><strong>Esteettömyys:</strong></p><br /><p>Avustaja pääsee tapahtumaan ilmaiseksi avustettavan kanssa samalla lipulla: <strong>kyllä</strong> (sovittava ennakkoon)<br>Tapahtumaan on esteetön pääsy pyörätuolilla: <strong>kyllä</strong><br>Tapahtumapaikalla on esteetön WC: <strong>kyllä</strong><br>Tapahtumapaikalla on mahdollisuus induktiosilmukan käyttöön: <strong>ei</strong><br>Tapahtumassa on pyörätuolikoroke: <strong>kyllä</strong></p><br /><p>Muuta huomioitavaa: Konehalliin ja Verstaalle on esteetön pääsy, vain yksi kynnys.</p><br /><p><strong>Pyörätuolia käyttävää tai erityistä avustusta tarvitsevaa asiakasta pyydetään olemaan etukäteen yhteydessä:&nbsp;</strong><strong>Harri Höglund 0400 668 079</strong></p><br /><p><strong><strong>***</strong><br></strong></p><br /><p>Tapahtumaan yhteiskuljetukset:<br>• Porista Havanan edestä, Ulvilan Friitalan pysäkin kautta Verstaalle.<br>• Kokemäeltä Oluthuoneen edestä, Harjavallan linja-autoaseman kautta Verstaalle.<br>• Raumalta linja-autoasemalta, Eurajoen kautta Verstaalle.<br>• Kaikki kuljetukset lähtevät klo 19.00. Paluukyyti viimeisen esityksen loputtua.<br>• Paluukyyti menee lähtöpaikkaan. Siitä eteenpäin omakustanteisesti.<br>• Menopaluukyydin hinta 10 euroa / hlö.</p><br /><p>Jotta saadaan oikea kokoinen kalusto ja tiedetään, että kuka tulee mistäkin, varaa kyyti osoitteesta myynti@nakkilanverstas.fi<strong><strong></strong></strong></p> <br /><br />  Visit event in our website: <a href='https://tapahtumainfo.fi/tapahtuma/2026/05/mr-bo-voodooers/441869'>Tapahtumainfo.fi</a></body></html>
END:VEVENT
END:VCALENDAR
