BEGIN:VCALENDAR
VERSION:2.0
PRODID:-//tapahtumainfo.fi//NONSGML Taco 4 Wine goes K-40 DISCO!//EN
METHOD:REQUEST
BEGIN:VEVENT
UID:20260421T071831-609277964-tapahtumainfo.fi
DTSTAMP:20260421T071831
DTSTART:20260516T020000Z
DTEND:20260516T020000Z
LOCATION:Taco 4 Wine
SUMMARY:Taco 4 Wine goes K-40 DISCO!
DESCRIPTION:<html><head></head><body><h3>K-40 disco, jossa musiikki pääasiallisesti kasarilta ja ysäriltä.&nbsp;</h3><br /><p>Levyissä <strong>DJ Antti</strong>, joka on tuttu Hämeen paikallisradioista ja yökerhoista.<br></p><br /><br /><p>Liput ovelta 20 €, mikäli jäljellä.<br></p><br /><p>Lippu vaihdetaan rannekkeeseen ovella.</p><br /><p>Tapahtuma on osittain esteetön.</p> <br /><br />  Visit event in our website: <a href='https://tapahtumainfo.fi/tapahtuma/2026/05/taco-4-wine-goes-k-40-disco/441872'>Tapahtumainfo.fi</a></body></html>
END:VEVENT
END:VCALENDAR
