BEGIN:VCALENDAR
VERSION:2.0
PRODID:-//tapahtumainfo.fi//NONSGML M/S Rhea 2026//EN
METHOD:REQUEST
BEGIN:VEVENT
UID:20260420T033334-172184466-tapahtumainfo.fi
DTSTAMP:20260420T033334
DTSTART:20260520T020000Z
DTEND:20260520T020000Z
LOCATION:M/S Rhea
SUMMARY:M/S Rhea 2026
DESCRIPTION:<html><head></head><body><h2>M/S Rhea - Sisävesiristeilyt </h2><br /><p><span dir="ltr"></span><span dir="ltr">Päivisin ja iltapäivisin M/S Rhea johdattaa sinut Pohjois-Päijänteen saariston upeisiin maisemiin ja</span><span dir="ltr"> kesätuulen raikkauteen – samalla nautitaan Rhean runsaan kesäpöydän herkuista.</span><span dir="ltr"> </span></p><br /><p><span dir="ltr">Kesäpöytä tarjoaa makumatkan kesän parhaisiin makuihin: savulohta, ylikypsää chuck rollia,</span><span dir="ltr"> raikkaita salaatteja ja makean päätöksen marjapiirakalla.</span><br></p><br /><p><span dir="ltr">Tervetuloa nauttimaan kesästä, maisemista ja herkullisesta ruoasta M/S Rhean kyydissä!</span></p><br /><p><strong><span dir="ltr">Iltaristeilyt 19.6-15.8.</span><span dir="ltr">, tarjolla</span><span dir="ltr"> </span><span dir="ltr">à la carte -menu</span></strong></p><br /><p><span dir="ltr">Kesän kauneimmat illat kutsuvat vesille! M/S Rhea risteilee juhannuksesta elokuun puoliväliin asti</span><span dir="ltr"> iltaisin Päijänteen syleilyssä</span><span dir="ltr"> </span><span dir="ltr">klo 19</span><span dir="ltr">–22, kun aurinko laskee ja järvi peilaa taivasta.</span><span dir="ltr"> </span></p><br /><p><span dir="ltr">Kaikilla iltaristeilyillä 19.6.–15.8. on tarjolla Rhean herkullinen</span><span dir="ltr"> </span><span dir="ltr">à la carte -menu,</span><span dir="ltr"> </span><span dir="ltr">joka</span><span dir="ltr"> julkaistaan</span><span dir="ltr"> </span><span dir="ltr">kesäkuussa 2026.</span><span dir="ltr">&nbsp;Valikoiduilla iltapäiväristeilyillä tarjolla sama makuelämys — täydellinen yhdistelmä hyvää ruokaa</span><span dir="ltr"> ja järvimaisemaa.</span></p><br /><p><span dir="ltr">Nauti kesäillan tunnelmasta, Päijänteen rauhasta ja Rhean keittiön mauista – varaa paikkasi kesän</span><span dir="ltr"> iltaristeilylle!</span></p><br /><p><strong><span dir="ltr">Saunapaketti 6–10</span><span dir="ltr"> </span><span dir="ltr">henkil</span><span dir="ltr">ö</span><span dir="ltr">lle</span></strong></p><br /><p>Löylyt, ystävät ja Päijänteen laineet – täydellinen ilta M/S Rhean saunalla!<span dir="ltr"> Rhea tarjoaa ainutlaatuisen saunakokemuksen järvimaisemissa: oma sauna, yksityinen takaterassi ja</span><span dir="ltr"> mahdollisuus nauttia virvokkeista sekä herkullisista tarjoiluista.</span></p><br /><p><span dir="ltr">Rentoudu, naura ja nauti – juuri niin rennosti kuin haluat.</span><br></p><br /><p><span dir="ltr">***</span></p><br /><h2>M/S Rhean Tähtiristeilyt</h2><br /><p>M/S Rhean Tähtiristeilyt tulevat taas kesällä!</p><br /><p>Upeissa Päijänteen maisemissa risteillään koko kesä huikean <br />artistikattauksen kanssa. Risteilyajat klo 15.00-18.00 ja klo <br />19.00-22.00.</p><br /><p>Lähtö Jyväskylän satamasta. Laivaan pääsee noin puoli tuntia ennen <br />lähtöä. Keikat ovat sään salliessa laivan kannella ja sateella laivan <br />sisällä. Hinta sisältää kolmen tunnin risteilyn Päijänteellä sekä <br />artistin keikan risteilyllä.<br></p><br /><p>KE 24.6.  ARPPA<br>TO 25.6. TUURE KILPELÄINEN<br>TO 2.7. EINI<br>KE 8.7. VIIVI<br>TO 9.7. STEVE ’N’ SEAGULLS<br>KE 15.7. MICHAEL MONROE (soolo)<br>KE 22.7. ANTTI AUTIO (soolo)<br>KE 29.7.  OLLI HALONEN (soolo)<br>TO 6.8. DIMITRI KEISKI & ENO <br>PE 14.8. IRINA (duo)<br>PE 28.8. PAULI HANHINIEMI MAD</p><br /><p><strong>***</strong></p><br /><h2>M/S Rhean Lahjakortit</h2><br /><p><strong>Yhden käyttökerran lahjakortilla voit lunastaa risteilylipun <strong><strong>vapaavalintaiselle <strong>risteilyille</strong> </strong></strong>kesällä 2026. <br></strong></p><br /><p><strong>Yhden <strong>käyttökerran </strong>Tähtiristeilyn lahjakortilla voit lunastaa lipun vapaavalintaiselle Tähtiristeilylle kesällä 2026.</strong><br></p><br /><p>Yhden käyttökerran lahjakortit ovat voimassa M/S Rhean kesän 2026 risteilyihin 31.8.2026 saakka.</p><br /><p><strong>Huomaa, että liput tulee lunastaa ennakkoon.</strong><em><br></em></p><br /><p><a href="https://www.facebook.com/matkarhea" target="_blank">M/S Rhea Facebook</a></p><br /><br /><p><strong>Nettisivuilta vain suoria ostoja. Puhelinpalvelun kautta lippujen varausaika 2 päivää.</strong><strong><br></strong></p><br /><p></p><br /><p><u><strong>Lipunlunastusohje:<br></strong></u></p><br /><ul><br /><li>Valitse mieluisa risteily tai Tähtiristeily.</li><li>Valitse lipputyypiksi <strong>Risteilylippu yhden käyttökerran lahjakortilla.</strong></li><li>Paina Lisää ostoskoriin.</li><br /><li>Syötä lippukoodi sille varattuun kenttään.</li><br /><li>Paina OK.</li><br /><li>Valitse toimitustapa.</li><li>Vahvistettuasi tilauksen, lippu toimitetaan sinulle valitsemallasi toimitustavalla.</li></ul><br /><p>Lunasta lahjakorttisi etukäteen halutulle risteilylle Tiketin <br />palvelussa. Huomioithan, että lahjakorttia ei voi lunastaa M/s Rhealla.</p><br /><p><strong>Esteettömyys:</strong></p><br /><p>Tapahtumaan ei ole esteetöntä pääsyä. Laivalla on esteetön WC.<br>Saattaja tarvitsee oman lipun.</p><br /><p></p> <br /><br />  Visit event in our website: <a href='https://tapahtumainfo.fi/tapahtuma/2026/05/m-s-rhea-2026/441873'>Tapahtumainfo.fi</a></body></html>
END:VEVENT
END:VCALENDAR
