BEGIN:VCALENDAR
VERSION:2.0
PRODID:-//tapahtumainfo.fi//NONSGML M/S Rhean risteilykesä 2026: Yhden käyttökerran lahjakortti//EN
METHOD:REQUEST
BEGIN:VEVENT
UID:20260420T033515-1583719731-tapahtumainfo.fi
DTSTAMP:20260420T033515
DTSTART:20260520T020000Z
DTEND:20260520T020000Z
LOCATION:M/S Rhea
SUMMARY:M/S Rhean risteilykesä 2026: Yhden käyttökerran lahjakortti
DESCRIPTION:<html><head></head><body><p>M/s Rhea <br />risteilee Jyväskylän Lutakon upeasta satamasta Pohjois-Päijänteen <br />kauniiseen saaristoon kesäkuusta syyskuuhun. Risteilyohjelmassa on <br />päivä-, iltapäivä- ja iltaristeilyjä. Upeissa Päijänteen maisemissa <br />risteillään lisäksi koko kesä huikean artistikattauksen kanssa. Kaikilla<br /> risteilyillä on ruokailumahdollisuus.<br></p><br /><p><strong>Yhden käyttökerran lahjakortilla voit lunastaa risteilylipun <strong><strong>vapaavalintaiselle <strong>risteilyille</strong> </strong></strong>kesällä 2026. <br></strong></p><br /><p><strong>Yhden <strong>käyttökerran </strong>Tähtiristeilyn lahjakortilla voit lunastaa lipun vapaavalintaiselle Tähtiristeilylle kesällä 2026.</strong><br></p><br /><p>Yhden käyttökerran lahjakortit ovat voimassa M/S Rhean kesän 2026&nbsp;risteilyihin 31.8.2026 saakka.</p><br /><p><strong>Huomaa, että liput tulee lunastaa ennakkoon.</strong></p><br /><p><strong>Lipunlunastusohje:<br></strong></p><br /><ul><br /><li>Valitse mieluisa risteily tai Tähtiristeily.</li><li>Valitse lipputyypiksi <strong>Risteilylippu yhden käyttökerran lahjakortilla.</strong></li><li>Paina "Lisää ostoskoriin".</li><br /><li>Syötä lahjakortin&nbsp;lippukoodi sille varattuun kenttään.</li><br /><li>Paina OK.</li><br /><li>Valitse toimitustapa.</li><li>Vahvistettuasi tilauksen, lippu toimitetaan sinulle valitsemallasi toimitustavalla.</li><li>Lunasta<br /> lahjakorttisi etukäteen halutulle risteilylle Tiketin palvelussa. <br />Huomioithan, että lahjakorttia ei voi lunastaa M/s Rhealla.</li></ul><br /><br /><p><strong><strong>Nettisivuilta vain suoria ostoja. Puhelinpalvelun kautta lippujen varausaika 2 päivää.</strong></strong></p><br /><p><strong>Esteettömyys:</strong></p><br /><p>Tapahtumaan ei ole esteetöntä pääsyä. Laivalla on esteetön WC.<br>Saattaja tarvitsee oman lipun.</p> <br /><br />  Visit event in our website: <a href='https://tapahtumainfo.fi/tapahtuma/2026/05/m-s-rhean-risteilykesa-2026-yhden-kayttokerran-lahjakortti/441874'>Tapahtumainfo.fi</a></body></html>
END:VEVENT
END:VCALENDAR
