BEGIN:VCALENDAR
VERSION:2.0
PRODID:-//tapahtumainfo.fi//NONSGML M/S Rhean risteilyt//EN
METHOD:REQUEST
BEGIN:VEVENT
UID:20260420T033327-1116350607-tapahtumainfo.fi
DTSTAMP:20260420T033327
DTSTART:20260520T020000Z
DTEND:20260520T020000Z
LOCATION:M/S Rhea
SUMMARY:M/S Rhean risteilyt
DESCRIPTION:<html><head></head><body><h2>M/S Rhean sisävesiristeilyt 2026 Jyväskylässä</h2><br /><p><span dir="ltr"></span><span dir="ltr">Päivisin ja iltapäivisin M/S Rhea johdattaa sinut Pohjois-Päijänteen saariston upeisiin maisemiin ja</span><span dir="ltr">&nbsp;kesätuulen raikkauteen – samalla nautitaan Rhean runsaan kesäpöydän herkuista.</span><span dir="ltr">&nbsp;</span></p><br /><p><span dir="ltr">Kesäpöytä tarjoaa makumatkan kesän parhaisiin makuihin: savulohta, ylikypsää chuck rollia,</span><span dir="ltr">&nbsp;raikkaita salaatteja ja makean päätöksen marjapiirakalla.</span><span dir="ltr"><br></span></p><br /><p><span dir="ltr">Risteilyliput:</span><br><span dir="ltr">– Aikuinen</span><span dir="ltr"> </span><span dir="ltr">28 €</span><br><span dir="ltr">– Lapsi</span><span dir="ltr"> </span><span dir="ltr">14 €</span><span dir="ltr"> </span><span dir="ltr">(4–</span><span dir="ltr">13 v)</span><br><span dir="ltr">– Perhelippu</span><span dir="ltr"> </span><span dir="ltr">65 €</span><span dir="ltr"> </span><span dir="ltr">(2 aikuista + 2 alle 14-vuotiasta)<br></span><span dir="ltr"><span dir="ltr">– </span>Risteily + kesäpöytämenu</span><span dir="ltr"> </span><span dir="ltr">59 €<br>–</span><span dir="ltr">&nbsp;Perhelippu&nbsp;<span dir="ltr"></span><span dir="ltr">(2 aikuista + 2 alle 14-vuotiasta)</span><span dir="ltr"></span>&nbsp;+ kesäpöytämenu</span><span dir="ltr"> </span><span dir="ltr">140 €</span></p><br /><p><span dir="ltr">Tervetuloa nauttimaan kesästä, maisemista ja herkullisesta ruoasta M/S Rhean kyydissä!</span></p><br /><p><strong><span dir="ltr">Iltaristeilyt 19.6-15.8.</span><span dir="ltr">,&nbsp;tarjolla</span><span dir="ltr"> </span><span dir="ltr">à la carte -menu</span></strong></p><br /><p><span dir="ltr">Kesän kauneimmat illat kutsuvat vesille! M/S Rhea risteilee juhannuksesta elokuun puoliväliin asti</span><span dir="ltr">&nbsp;iltaisin Päijänteen syleilyssä</span><span dir="ltr"> </span><span dir="ltr">klo 19</span><span dir="ltr">–22, kun aurinko laskee ja järvi peilaa taivasta.</span><span dir="ltr">&nbsp;</span></p><br /><p><span dir="ltr">Kaikilla iltaristeilyillä 19.6.–15.8. on tarjolla Rhean herkullinen</span><span dir="ltr"> </span><span dir="ltr">à la carte -menu,</span><span dir="ltr"> </span><span dir="ltr">joka</span><span dir="ltr">&nbsp;julkaistaan</span><span dir="ltr"> </span><span dir="ltr">kesäkuussa 2026.</span><strong></strong><span dir="ltr">&nbsp;Valikoiduilla iltapäiväristeilyillä tarjolla sama makuelämys — täydellinen yhdistelmä hyvää ruokaa</span><span dir="ltr">&nbsp;ja järvimaisemaa.</span></p><br /><p><span dir="ltr">Nauti kesäillan tunnelmasta, Päijänteen rauhasta ja Rhean keittiön mauista – varaa paikkasi kesän</span><span dir="ltr">&nbsp;iltaristeilylle!</span></p><br /><p><strong><span dir="ltr">Saunapaketti 6–10</span><span dir="ltr"> </span><span dir="ltr">henkil</span><span dir="ltr">ö</span><span dir="ltr">lle</span></strong></p><br /><p>Löylyt, ystävät ja Päijänteen laineet – täydellinen ilta M/S Rhean saunalla!<strong></strong><span dir="ltr">&nbsp;Rhea tarjoaa ainutlaatuisen saunakokemuksen järvimaisemissa: oma sauna, yksityinen takaterassi ja</span><span dir="ltr">&nbsp;mahdollisuus nauttia virvokkeista sekä herkullisista tarjoiluista.</span></p><br /><p><span dir="ltr">Rentoudu, naura ja nauti – juuri niin rennosti kuin haluat.</span></p><br /><p><span dir="ltr">Saunapaketti</span><span dir="ltr"> </span><span dir="ltr">400 €</span><span dir="ltr"> </span><span dir="ltr">/</span><span dir="ltr"> </span><span dir="ltr">3 tuntia</span><br><span dir="ltr">– Sopii 6–</span><span dir="ltr">10 hengelle</span><br><span dir="ltr">– Sisältää Rhean saunan ja takakannen terassin yksityiskäytön risteilyn ajaksi</span></p><br /><p><span dir="ltr">Yhdistä illan täydelliseksi kokonaisuudeksi ruokailu tai iltaristeily&nbsp;–&nbsp;ja&nbsp;koe&nbsp;Päijänteen&nbsp;kesä</span><span dir="ltr">&nbsp;uudella tavalla!</span></p><br /><p><strong>Rhean Tähtiristeilyillä näet myös suomen valovoimaisimmat artistit!</strong></p><br /><p><a href="https://www.tiketti.fi/m-s-rhean-tahtiristeilyt-2026-m-s-rhea-jyvaskyla-lippuja/116039" target="_blank">Katso kaikki Rhean tähtiristeilyt</a></p><br /><br /><p><strong>Nettisivuilta vain suoria ostoja. Puhelinpalvelun kautta lippujen varausaika 2 päivää.</strong><br></p><br /><p><strong>Esteettömyys:</strong></p><br /><p>Tapahtumaan ei ole esteetöntä pääsyä. Laivalla on esteetön WC.<br>Avustaja&nbsp;tarvitsee oman lipun.<br></p> <br /><br />  Visit event in our website: <a href='https://tapahtumainfo.fi/tapahtuma/2026/05/m-s-rhean-risteilyt/441875'>Tapahtumainfo.fi</a></body></html>
END:VEVENT
END:VCALENDAR
