BEGIN:VCALENDAR
VERSION:2.0
PRODID:-//tapahtumainfo.fi//NONSGML Hot Heros//EN
METHOD:REQUEST
BEGIN:VEVENT
UID:20260420T033156-1083965816-tapahtumainfo.fi
DTSTAMP:20260420T033156
DTSTART:20260520T020000Z
DTEND:20260520T020000Z
LOCATION:Suisto-klubi
SUMMARY:Hot Heros
DESCRIPTION:<html><head></head><body><h2>Mainio jazzyhtye <strong>Hot Heros</strong> saapuu keskiviikkona 20.5. esittämään uuden Tähtisilmä-albuminsa materiaalia.  </h2><br /><p>Hot Heros tunnetaan omaleimaisesta ja rohkeasti improvisoivasta ilmaisustaan. Uudella Tähtisilmä-levyllä yhtye sukeltaa mestaripelimanni <strong>Konsta Jylhän</strong> ajattomiin sävelmiin ja muovaa niistä oman, vahvasti nykyhetkessä elävän kokonaisuuden. Uuden levyn musiikki soljuu hämmentävän luontevasti. Hot Heros on Tähtisilmällä onnistunut tuomaan Konsta Jylhän sävellykset tähän aikaan ja tähän maailmaan ilman pakotettua moderniutta.</p><br /><p>Hot Heros on Ville Rauhala kontrabasso, Sami Sippola saksofoni ja Janne Tuomi rummut. Suiston konsertti varten yhtyeen kokoonpanoa täydentää sellisti Katri Antikainen.&nbsp;</p><br /><p>Tähtisilmän levyn on julkaisut tamperelainen Puro Records huhtikuussa 2026. Digipalveluiden lisäksi levy on saatavilla vinyylinä. Luvassa on upea konsertti-ilta, jossa perinne ja moderni jazz kietoutuvat yhteen tavalla, joka varmasti jää mieleen. Suistoklubin jazzkonsertit ovat keränneet kehuja lämpimästä tunnelmasta ja loistavista soundeistaan.</p><br /><br /><p>Showtime 19:00<br>Suisto avoinna klo 16-02<br></p><br /><p>Lippu sisältää eteispalvelumaksun.<strong><br> </strong></p><br /><p>Liput ovelta 27 €, jos jäljellä.</p> <br /><br />  Visit event in our website: <a href='https://tapahtumainfo.fi/tapahtuma/2026/05/hot-heros/441876'>Tapahtumainfo.fi</a></body></html>
END:VEVENT
END:VCALENDAR
