BEGIN:VCALENDAR
VERSION:2.0
PRODID:-//tapahtumainfo.fi//NONSGML Hukas, Nupe, Odex//EN
METHOD:REQUEST
BEGIN:VEVENT
UID:20260420T033203-1332575077-tapahtumainfo.fi
DTSTAMP:20260420T033203
DTSTART:20260520T020000Z
DTEND:20260520T020000Z
LOCATION:On The Rocks
SUMMARY:Hukas, Nupe, Odex
DESCRIPTION:<html><head></head><body><h3><strong></strong>Hukas, Nupe ja Odex On The Rocksiin toukokuussa!</h3><br /><p>24-vuotias <strong>Hukas</strong> on tehnyt musiikkia jo yläasteelta lähtien ja rakentanut itselleen vahvan kuulijakunnan – vantaalaisräppärillä onkin jo yli 40 000 kuukausittaista kuuntelijaa Spotifyssa. Keikoilla hänet tunnetaan energisyydestään sekä vahvasta lavakarismastaan. Artistin tuorein sinkku <em>“Jäljellä”</em> julkaistiin helmikuussa.</p><br /><p dir="ltr">Helsingin Herttoniemestä ponnistava <strong>Nupe</strong> yhdistää melodisen soundin, vahvat räppiverset ja tarttuvat kertosäkeet omaleimaiseksi, tunnistettavaksi tyylikseen. Vuonna 2022 suuremman yleisön tietoisuuteen noussut artisti on jo ehtinyt jättää vahvan jäljen suomiräpin kentälle mm. biiseillään <em>”Itä-Helsinki”, ”Itä-Helsinki 2”</em> ja <em>”Tunteeton”.</em></p><br /><p dir="ltr">Illan avaa <strong>Odex,</strong> joka liikkuu sulavasti R&B:n, trapin ja rapin rajapinnoilla. Hänen energinen ja rohkea musiikkinsa on yhdistelmä modernia flow’ta ja persoonallista tyyliä. Odex tunnetaan myös mallina, mikä näkyy hänen visuaalisessa ja itsevarmassa esiintymisessään.<br></p><br /><br /><p>Varmista soittoajat keikkapäivänä On The Rocksin sivuilta: <a href="http://www.rocks.fi/tapahtumat" target="_blank">www.rocks.fi/tapahtumat</a><strong><br></strong></p><br /><p><strong>Liput ovelta 18 €, mikäli jäljellä.</strong></p><br /><p><strong>Ovella peritään eteispalvelumaksu 3,80 €.</strong><strong><br></strong></p><br /><p><strong>---</strong></p><br /><p><strong>Saavustettavuus ja esteettömyys</strong><br>On The Rocksin tapahtumiin pääsee myös liikkumisen apuvälineillä. Tila ei ole täysin esteetön - tiloissa sijaitsee rappusia sekä kynnyksiä. Henkilökunta avustaa alakerran klubille pääsyssä hissin kautta. Avustaja pääsee tapahtumaan veloituksetta avustettavan kanssa samalla lipulla. <br> <br>Katso tarkemmat tiedot:<strong> <a href="https://www.rocks.fi/info/" target="_blank">https://www.rocks.fi/info</a><br><br>Turvallisemman tilan periaatteet<br> </strong>On the Rocks on sitoutunut järjestämään turvallisia tapahtumia. Lue lisää turvallisemman tilan periaatteista <a href="https://www.rocks.fi/info/#turvallisuus-head" target="_blank">täältä.</a></p> <br /><br />  Visit event in our website: <a href='https://tapahtumainfo.fi/tapahtuma/2026/05/hukas-nupe-odex/441877'>Tapahtumainfo.fi</a></body></html>
END:VEVENT
END:VCALENDAR
