BEGIN:VCALENDAR
VERSION:2.0
PRODID:-//tapahtumainfo.fi//NONSGML Androids//EN
METHOD:REQUEST
BEGIN:VEVENT
UID:20260422T203137-414786970-tapahtumainfo.fi
DTSTAMP:20260422T203137
DTSTART:20260526T020000Z
DTEND:20260526T020000Z
LOCATION:Tavastia-klubi
SUMMARY:Androids
DESCRIPTION:<html><head></head><body><p><strong>Androids </strong>tekee paluun yli 30 vuoden tauon jälkeen.</p><br /><p><br />1980-luvun lopulla kulttisuosioon noussut melodista hard rockia soittanut yhtye </p><br /><p>julkaisee uutta musiikkia vapun 2026 tienoilla ja palaa lavoille toukokuussa.</p><br /><p>Androids nousi aikoinaan Helsingin undergroundista valtakunnalliseen tietoisuuteen energisellä melodisella hard rockillaan.&nbsp;Yhtyeen tunnetuimpiin kappaleisiin lukeutuvat muun muassa iskevä “Same As You”,&nbsp;stadionopener “Let It All Out”, “Hard Lovin’ Girl” sekä Levyraadin voittanut balladi&nbsp;“When The Sun Turns To Rain”.&nbsp; Yhtyeen debyyttialbumi "Let It All Out" (1988) julkaistiin myös Espanjassa ja cd- versio 2008 Australiaisen SunCity Recordsin toimesta, jota on sittemmin kuvailtu kriitikoiden toimesta Glam-rockin “piilotetuksi helmeksi”.&nbsp;<br></p><br /><p>Tavastian keikan yhteydessä in memoriam -osio vuonna 2022 menehtyneelle Androids - kitaristi Ade Manniselle. </p><br /><p>Mukana muistokonsertissa ovat mm. <strong>Bermuda</strong> (feat. Petri Liski),&nbsp;<strong>Maukka Perusjätkä</strong> Band ja <strong>Joe Doakes</strong>.&nbsp;Erikoisvieraana <strong>Ben Granfelt</strong>, jonka ansiosta löytyi aikoinaan se ainoa oikea Androids rumpali: <strong>Yara</strong>!<br></p><br /><p>Muitakin yllätyksiä luvassa...<br><br></p><br /><p><strong>Saavutettavuus</strong></p><br /><p>Tavastian katutason kerros on esteetön. Sisäänkäynnillä on pieni kynnys, johon on saatavilla ramppi. Tilassa on esteetön wc-tila. <a href="https://tavastiaklubi.fi/info/" target="_blank" rel="noopener">Lue lisää saavutettavuudesta Tavastian sivuilta!</a>&nbsp;Avustaja ei tarvitse erillistä lippua vaan pääsee avustettavan kanssa samalla normaalilipulla sisään. Esitäthän pyydettäessä EU:n vammaiskortin.</p><br /><p><strong>Eteispalvelu</strong></p><br /><p>Eteispalvelusta veloitamme 4 € per henkilö. Päällysvaatteet ja suuret laukut tulee jättää narikkaan turvallisuussyistä. Huomioithan, että pääsylipussa mainittu palvelumaksu tarkoittaa Tiketin lipunmyynnin palvelumaksua, eikä eteispalvelua paikan päällä.</p><br /><p><strong>Turvallisuusohje</strong><br><br>Tavastialla on nollatoleranssi kaikenlaiselle häirinnälle, kiusaamiselle, syrjinnälle, väkivallalle sekä vallan väärinkäytölle. Edellytämme jokaista meillä vierailevaa sitoutumaan turvallisemman tilan periaatteisiin. Huomioithan siis keikalla myös ihmiset ympärilläsi!</p><br /><p><strong>Ympäristölippu<br><br></strong>Ympäristölipulla osallistut Tavastian ja Luonnoperintösäätiön metsäkeräykseen: 3€ osuus ohjataan metsäkeräykseen lokakuussa 2024 hankkimamme suojelualueen laajentamiseksi. <a href="https://luonnonperintosaatio.fi/tavastian-metsa" target="_blank" rel="noopener">Tutustu tarkemmin Luonnonperintösäätiön sivuilla!</a>&nbsp;Kiitos kun olet mukana rakentamassa kestävämpää Tavastiaa!</p><br /><p>Syömään tai lasilliselle ennen keikkaa? <a href="http://www.ravintolailves.fi/" target="_blank">Tule Ravintola Ilvekseen!</a></p><br /><p><br></p><br /><br /><p><strong>Varmista soittoajat keikkapäivänä <a href="https://www.tavastiaklubi.fi" target="_blank"><span style="text-decoration-line: underline;">Tavastian sivuilta</span></a>.</strong><br></p> <br /><br />  Visit event in our website: <a href='https://tapahtumainfo.fi/tapahtuma/2026/05/androids/441878'>Tapahtumainfo.fi</a></body></html>
END:VEVENT
END:VCALENDAR
