BEGIN:VCALENDAR
VERSION:2.0
PRODID:-//tapahtumainfo.fi//NONSGML Babestation//EN
METHOD:REQUEST
BEGIN:VEVENT
UID:20260422T221050-1033115194-tapahtumainfo.fi
DTSTAMP:20260422T221050
DTSTART:20260527T020000Z
DTEND:20260527T020000Z
LOCATION:On The Rocks
SUMMARY:Babestation
DESCRIPTION:<html><head></head><body><p dir="ltr"><strong>Babestation</strong> saapuu On The Rocksiin toukokuussa! Alt-metallia, rockia ja punkia yhdistelevä nelikko tekee melankolista ja kantaaottavaa musiikkia, joka on ehdottomasti parhaimmillaan livenä. Heinolasta ponnistava yhtye julkaisi tammikuussa 2026&nbsp;esikoisalbuminsa <em>“Lullabies”.</em><br></p><br /><br /><p>Varmista soittoajat keikkapäivänä On The Rocksin sivuilta: <a href="http://www.rocks.fi/tapahtumat" target="_blank">www.rocks.fi/tapahtumat</a><strong><br></strong></p><br /><p><strong>Liput ovelta 16 €, mikäli jäljellä.</strong></p><br /><p><strong>Ovella peritään eteispalvelumaksu 3,80 €.</strong><strong><br></strong></p><br /><p><strong>---</strong></p><br /><p><strong>Saavustettavuus ja esteettömyys</strong><br>On The Rocksin tapahtumiin pääsee myös liikkumisen apuvälineillä. Tila ei ole täysin esteetön - tiloissa sijaitsee rappusia sekä kynnyksiä. Henkilökunta avustaa alakerran klubille pääsyssä hissin kautta. Avustaja pääsee tapahtumaan veloituksetta avustettavan kanssa samalla lipulla. <br> <br>Katso tarkemmat tiedot:<strong> <a href="https://www.rocks.fi/info/" target="_blank">https://www.rocks.fi/info</a><br><br>Turvallisemman tilan periaatteet<br> </strong>On the Rocks on sitoutunut järjestämään turvallisia tapahtumia. Lue lisää turvallisemman tilan periaatteista <a href="https://www.rocks.fi/info/#turvallisuus-head" target="_blank">täältä.</a></p> <br /><br />  Visit event in our website: <a href='https://tapahtumainfo.fi/tapahtuma/2026/05/babestation/441879'>Tapahtumainfo.fi</a></body></html>
END:VEVENT
END:VCALENDAR
