BEGIN:VCALENDAR
VERSION:2.0
PRODID:-//tapahtumainfo.fi//NONSGML Dionysian Band - The Tribute To Doors//EN
METHOD:REQUEST
BEGIN:VEVENT
UID:20260422T234419-174689997-tapahtumainfo.fi
DTSTAMP:20260422T234419
DTSTART:20260529T020000Z
DTEND:20260529T020000Z
LOCATION:Storyville
SUMMARY:Dionysian Band - The Tribute To Doors
DESCRIPTION:<html><head></head><body><h2>Dionysian Band - The Tribute To Doors&nbsp;Storyvillessa 29.5.!</h2><br /><br /><p><strong>22:30&nbsp;Dionysian Band - The Tribute To Doors</strong><br></p><br /> <br /><br />  Visit event in our website: <a href='https://tapahtumainfo.fi/tapahtuma/2026/05/dionysian-band-the-tribute-to-doors/441880'>Tapahtumainfo.fi</a></body></html>
END:VEVENT
END:VCALENDAR
