BEGIN:VCALENDAR
VERSION:2.0
PRODID:-//tapahtumainfo.fi//NONSGML Kormus//EN
METHOD:REQUEST
BEGIN:VEVENT
UID:20260422T130401-700014720-tapahtumainfo.fi
DTSTAMP:20260422T130401
DTSTART:20260530T020000Z
DTEND:20260530T020000Z
LOCATION:Public House Huurre
SUMMARY:Kormus
DESCRIPTION:<html><head></head><body><h2>Kormus palaa lavoille puolen vuoden tauon jälkeen!</h2><br /><p>Vuonna 2013 perustettu Kormus on viettänyt uransa pisintä hiljaiseloa alkuvuoden 2026 ja palaa nyt keikoilla uudistetulla kokoonpanolla.</p><br /><p>Ainoa oikea paikka paluulle on yhtyeen kotiluola Public house Huurre Tampereella, jossa on aiemmin pidetty Kormuksen singlen- ja albuminjulkaisukeikkoja sekä vierailevia tähtiä sisältäneitä Kormus-klupeja.</p><br /><p>Viime vuonna julkaistut singlet Hollywood ja Matkalla aamuun ovat soineet kevään ajan taajaan Radio Suomirockin taajuudella tehden yhtyettä tutuksi uudelle yleisölle.</p><br /><p>Vuodesta 2013 uraansa kunnioitettavalla pieteetillä työstänyt yhtye on takonut yli 800 keikkaa, julkaissut 5 täyspitkää albumia sekä ison kasan EP:itä ja singlejä.</p><br /><p>Tule, näe ja koe uudistunut Kormus ensimmäisenä lauantaina 30.5.2026 Tampereen Public House Huurteessa!</p><br /><p>Kormus:&nbsp;<a href="https://www.facebook.com/kormusband" target="_blank">Facebook</a> | <a href="https://www.instagram.com/kormusband/" target="_blank">Instagram</a><br></p><br /><br /><p><strong>Liput ovelta 20 €.</strong></p><br /><p><strong>Esteettömyys</strong><br>Avustaja pääsee tapahtumaan ilmaiseksi avustettavan kanssa samalla lipulla: <strong>kyllä</strong><br>Tapahtumaan on esteetön pääsy pyörätuolilla: <strong>kyllä</strong><br>Tapahtumapaikalla on esteetön WC: <strong>kyllä</strong><br>Tapahtumassa on mahdollisuus induktiosilmukan käyttöön: <strong>ei</strong><br>Tapahtumassa on pyörätuolikoroke: <strong>ei</strong><br><span dir="ltr">Pyörätuolia käyttävää tai erityistä avustusta tarvitsevaa&nbsp;</span><span dir="ltr">asiakasta pyydetään olemaan etukäteen yhteydessä sujuvan&nbsp;</span><span dir="ltr">sisäänpääsyn varmistamiseksi:&nbsp;<strong>Juha Kannisto, juha@publichousehuurre.fi, 040 0436245</strong></span><strong></strong></p> <br /><br />  Visit event in our website: <a href='https://tapahtumainfo.fi/tapahtuma/2026/05/kormus/441881'>Tapahtumainfo.fi</a></body></html>
END:VEVENT
END:VCALENDAR
