BEGIN:VCALENDAR
VERSION:2.0
PRODID:-//tapahtumainfo.fi//NONSGML Whitney Johnson, Lia Kohl & Macie Stewart (USA)//EN
METHOD:REQUEST
BEGIN:VEVENT
UID:20260423T022349-887278177-tapahtumainfo.fi
DTSTAMP:20260423T022349
DTSTART:20260601T020000Z
DTEND:20260601T020000Z
LOCATION:G Livelab
SUMMARY:Whitney Johnson, Lia Kohl & Macie Stewart (USA)
DESCRIPTION:<html><head></head><body><p>Suuresta kansainvälisestä kiinnostuksesta  nauttiva, nuori, kokeellinen jousitrio aloittaa Euroopan kiertueensa Suomesta kahden arvostetun muusikon, Jonna Tervomaan ja Darin Grayn perustaman Tila.nne toiminnan kutsumina. Tässä on jousitrio, jonkalaista harvoin kuullaan Suomessa. <br><br> Heidän soolotyönsä kattaa laajan musiikillisen kentän alternative rockista ja americanasta jazziin, avant gardeen sekä klassiseen musiikkiin.<br><br>Kolmikon yhteinen soundi  perustuu improvisoituun esiintymiseen – automaattiseen ja intuitiiviseen sävellykseen heidän kolmen äänen ja kolmen jousisoittimen kautta siinä tilassa, jossa sillä hetkellä olevat: alttoviulu, sello ja viulu. Joskus laulu ja elektroniikka yhtyvät soittoon.<br><br>Vaikutteet ovat laajat, ne välittyvät leikkisämmällä helppoudella kuin mitä jousisoitinkolmikolle on tyypillistä.<br><br>Yhtye julkaisi tuoreen albuminsa Body Sound arvostetulla International Anthem - levymerkillä.</p><br /><p><a href="https://www.facebook.com/glivelabhelsinki/" target="_blank">Facebook</a><br><a href="https://www.instagram.com/glivelabhelsinki/" target="_blank">Instagram</a><br><a href="https://twitter.com/glivelabhelsinki" target="_blank">Twitter</a></p><br /><br /> <br /><br />  Visit event in our website: <a href='https://tapahtumainfo.fi/tapahtuma/2026/06/whitney-johnson-lia-kohl-macie-stewart-usa/441882'>Tapahtumainfo.fi</a></body></html>
END:VEVENT
END:VCALENDAR
