BEGIN:VCALENDAR
VERSION:2.0
PRODID:-//tapahtumainfo.fi//NONSGML Oliver Bentley + Ahti Kulo//EN
METHOD:REQUEST
BEGIN:VEVENT
UID:20260423T011051-29378450-tapahtumainfo.fi
DTSTAMP:20260423T011051
DTSTART:20260603T020000Z
DTEND:20260603T020000Z
LOCATION:Dubrovnik
SUMMARY:Oliver Bentley + Ahti Kulo
DESCRIPTION:<html><head></head><body><h2>Oliver Bentley levynjulkistuskeikka Dubrovnikissa, mukana Ahti Kulo!&nbsp;</h2><br /><p><strong>Oliver Bentley </strong><br></p><br /><p>Suomalais-brittiläinen artisti Oliver Bentley juhlistaa helmikuussa 2026 ilmestynyttä Disappearance Act -debyyttialbumiaan levyjulkkarikeikalla Dubrovnikissa keskiviikkona 3.6.2026. Tunnelmallista indie-popia, tarttuvia melodioita ja intiimiä tuotantoa yhdistelevä albumi on kerännyt huomiota niin kuulijoiden kuin kriitikoiden keskuudessa, ja se valittiin Radio Helsingin viikon levyksi. </p><br /><p>Pääosin göteborgilaiseen siivouskomeroon rakennetussa kotistudiossa syntynyt Disappearance Act ammentaa yksinolosta ja epäluotettavista muistoista, kurkottaen samalla kohti jotain lohdullista ja uutta versovaa. Kappaleiden melankolinen mutta lämmin ilmaisu rakentuu pelkistettyjen sovitusten ja vahvan melodisen otteen varaan. </p><br /><p>Dubrovnikin keikalla Disappearance Act kuullaan ensimmäistä kertaa kokonaisuudessaan livenä. Bentleyn rinnalla lavalle nousee Kalle Outila (kitara), Aapo Palonen (basso), Antony Bentley (koskettimet) sekä Ville-Pekka Vaaralahti (rummut).</p><br /><p><strong>Ahti Kulo</strong></p><br /><p>Ahti Kulo on helsinkiläinen taidepop-artisti ja tuottaja, jonka kappaleet ovat kuin pieniä maailmoja – kerroksellisia, utuisia ja intuitiivisesti eteneviä. Musiikissa yhdistyvät lofi-estetiikan pehmeys sekä 90–00-lukujen minimalistisen electronican viileys. Kulon toinen albumi “IKAROS” julkaistiin lokakuussa 2025. Keikalla kuullaan tuoretta livekokoonpanoa, joka tuo uutta eloa levyn kappaleisiin.<br></p><br /><br /><p>Numeroimattomat paikat. Seisova katsomo.</p><br /><p>Eteismaksu 4 € / hlö.</p><br /><p><strong>Esteettömyys:</strong></p><br /><p><span dir="ltr">Avustaja pääsee tapahtumaan ilmaiseksi avustettavan kanssa&nbsp;</span><span dir="ltr">samalla lipulla:&nbsp;<strong>kyllä</strong></span><br><span dir="ltr">Tapahtumaan on esteetön pääsy pyörätuolilla:&nbsp;<strong>kyllä</strong></span><br><span dir="ltr">Tapahtumapaikalla on esteetön WC:&nbsp;<strong>kyllä</strong></span><br><span dir="ltr">Tapahtumapaikalla on mahdollisuus induktiosilmukan käyttöön:&nbsp;<strong>ei</strong></span><br><span dir="ltr">Tapahtumassa on pyörätuolikoroke:&nbsp;<strong>kyllä</strong></span><br><span dir="ltr">Pyörätuolia käyttävää tai erityistä avustusta tarvitsevaa&nbsp;</span><span dir="ltr">asiakasta pyydetään olemaan etukäteen yhteydessä sujuvan&nbsp;</span><span dir="ltr">sisäänpääsyn varmistamiseksi:&nbsp;<a href="mailto:vilma@altagency.fi" data-outlook-id="9f06c0b5-1ef0-4b6b-8e8f-bf886efbaac6">vilma@altagency.fi</a></span></p> <br /><br />  Visit event in our website: <a href='https://tapahtumainfo.fi/tapahtuma/2026/06/oliver-bentley-ahti-kulo/441883'>Tapahtumainfo.fi</a></body></html>
END:VEVENT
END:VCALENDAR
