BEGIN:VCALENDAR
VERSION:2.0
PRODID:-//tapahtumainfo.fi//NONSGML Tanssiteatteri MD: Tanssiva Muumilaakso//EN
METHOD:REQUEST
BEGIN:VEVENT
UID:20260422T222109-1749120346-tapahtumainfo.fi
DTSTAMP:20260422T222109
DTSTART:20260605T020000Z
DTEND:20260605T020000Z
LOCATION:Kulttuurikeskus Painotalo
SUMMARY:Tanssiteatteri MD: Tanssiva Muumilaakso
DESCRIPTION:<html><head></head><body><p style="text-align: left;">Ympäri maailmaa kiertäneen ja palkitun kestosuosikin hersyvän pyöreät muumihahmot on kuin luotu tanssimaan. Tove Janssonin<em>&nbsp;Näkymätön lapsi ja muita kertomuksia</em> -teoksen pohjalta käsikirjoitetussa koreografiassa taidokas tanssi, musiikki ja visuaaliset elementit punovat kokonaisvaltaisen ja lumoavan maailman. Teos kertoo tanssin kielellä Janssonille tärkeistä teemoista, ystävyydestä, suvaitsevaisuudesta ja rohkeudesta olla oma itsensä.</p><br /><br /><p style="text-align: left;"><strong>Käsikirjoitus, ohjaus ja koreografia</strong> Samuli Roininen<br><strong>Käsikirjoitus, sävellys ja äänisuunnittelu</strong> Heikki Mäenpää<br><strong>Esiintyjät (Hällä-näyttämön kevät 2026)</strong> Joel Alalantela, Suvi Eloranta, Klaara Haapanen, Anniina Kumpuniemi, Liisa Rantola, Samuli Roininen<br><strong>Alkuperäisroolitus (2010) </strong>Suvi Eloranta, Mikko Heino, Sara Kovamäki, Anu Castrén / Anniina Kumpuniemi, Samuli Roininen<br><strong>Pukusuunnittelu ja visuaalinen toteutus</strong> Carmela Wager<br><strong>Projisointi- ja visuaalinen toteutus</strong> Sanna Malkavaara<br><strong>Valosuunnittelu</strong> Sari Mayer</p><br /><p style="text-align: left;"><strong>Lavasteiden toteutus</strong> Matias Palo ja Riina Kuusisto<br><strong>Pukujen toteutus</strong> Osk Työhuone Hengari<br><strong>Peruukit ja hatut</strong> Anni Hiro<br><strong>Orkesteri</strong> Heikki Mäenpää & Moominvalley Orchestra (Suomi), yhteistyössä Ringing Bells Rondo Club (Japani)<br><strong>Tutkija, asiantuntija ja luennoitsija</strong> Elina Bonelius, Sirke Happonen<br><strong>Erityisasiantuntija</strong> Panu Raninen<br><strong>Valokuvaus</strong> Ari Ijäs © Moomin Characters™<br><strong>Tuotanto</strong> Tanssiteatteri MD sekä vastaava tuottaja Heikki Mäenpää&nbsp;</p><br /><br /><p style="text-align: left;"><strong>Esitysoikeudet Agency North /&nbsp; © Moomin Characters™<br>Perustuu Tove Janssonin <em>Näkymätön lapsi ja muita kertomuksia</em> -teokseen</strong></p><br /><br /><p><strong>Saavutettavuus</strong><br>Tapahtumaan on esteetön sisäänkäynti <br>Tapahtumassa on esteettömät kulkureitit <br>Tapahtumassa on esteetön WC <br>Asiakkaan avustaja pääsee maksutta <br>Tapahtumassa ei ole lainattavia apuvälineitä <br>Tapahtumassa ei ole luiskalla varustettua katsomokoroketta <br>Tapahtumassa ei ole mahdollisuutta induktiosilmukan ja kuuluvuuskartan käyttöön <br>Tapahtumassa vessapassi ei ole käytössä <br>Tapahtumaan ei ole saatavilla pyörätuolilippua </p><br /><p>Peruslippu ovella: 10,00 €</p> <br /><br />  Visit event in our website: <a href='https://tapahtumainfo.fi/tapahtuma/2026/06/tanssiteatteri-md-tanssiva-muumilaakso/441884'>Tapahtumainfo.fi</a></body></html>
END:VEVENT
END:VCALENDAR
