BEGIN:VCALENDAR
VERSION:2.0
PRODID:-//tapahtumainfo.fi//NONSGML Tani Tamminen Big Band//EN
METHOD:REQUEST
BEGIN:VEVENT
UID:20260421T215829-834847366-tapahtumainfo.fi
DTSTAMP:20260421T215829
DTSTART:20260605T020000Z
DTEND:20260605T020000Z
LOCATION:Kulttuuritalo Telakka
SUMMARY:Tani Tamminen Big Band
DESCRIPTION:<html><head></head><body><p>Tani Tamminen Big Band juhlii 20-vuotista taivaltaan Telakalla perjantaina 5. kesäkuuta. TTBB Goes Back To Memories -keikalla soitetaan pääasiassa orkesterin parhaita paloja ja omia suosikkikappaleita vuosien varrelta sekä muistellaan edesmenneitä TTBB:n solisteja Harri Marstiota ja Pauli Heikkilää.Memories keikan solisteina laulavat Pike Kontkanen, Silja Palomäki, Tuuli-Mari Rauhala, Laura Pentti, Satu Pohja, Nadja Räikkä, Tiblu Tökkäri, Ilaria Tucci, duo Havanna ja Mimosa, Ila Loueranta, Sidi Mäki-Laurila, Safka Pekkonen, Jonne Sassi ja Ilari Siekkinen. Keikan lipputulot lahjoitetaan Tays:n lastenpsykiatrian osaston käyttöön.</p><br /><br /><p><strong>Esteettömyys: </strong><br>Avustaja pääsee tapahtumaan ilmaiseksi avustettavan kanssa samalla lipulla: <strong>kyllä</strong><br>Tapahtumaan on esteetön pääsy pyörätuolilla: <strong>ei</strong><br>Tapahtumassa on pyörätuolikoroke:<strong> ei</strong><br>Pyörätuolia<br /> käyttävää tai erityistä avustusta tarvitsevaa asiakasta pyydetään <br />olemaan etukäteen yhteydessä sujuvan sisäänpääsyn varmistamiseksi:<strong> Esteettömyydestä voi olla etukäteen yhteydessä ravintolan yleiseen numeroon 03 2250700.</strong></p> <br /><br />  Visit event in our website: <a href='https://tapahtumainfo.fi/tapahtuma/2026/06/tani-tamminen-big-band/441885'>Tapahtumainfo.fi</a></body></html>
END:VEVENT
END:VCALENDAR
