BEGIN:VCALENDAR
VERSION:2.0
PRODID:-//tapahtumainfo.fi//NONSGML Portion Boys//EN
METHOD:REQUEST
BEGIN:VEVENT
UID:20260422T191001-419892852-tapahtumainfo.fi
DTSTAMP:20260422T191001
DTSTART:20260606T020000Z
DTEND:20260606T020000Z
LOCATION:Keurusselkä Resort
SUMMARY:Portion Boys
DESCRIPTION:<html><head></head><body><p style="text-align: left;">Eläköön elämä!<br>Keurusselän Kesäkauden avaa Portion Boys ja parhaat bileet lauantaina 6.6.2026.<br>Tervetuloa!</p><br /><br /><p><strong>Saavutettavuus</strong><br>Tapahtumaan on esteetön sisäänkäynti <br>Tapahtumassa on esteettömät kulkureitit <br>Tapahtumassa on esteetön WC <br>Asiakkaan avustaja pääsee maksutta<br>Tapahtumassa ei ole mahdollisuutta induktiosilmukan ja kuuluvuuskartan käyttöön<br></p> <br /><br />  Visit event in our website: <a href='https://tapahtumainfo.fi/tapahtuma/2026/06/portion-boys/441886'>Tapahtumainfo.fi</a></body></html>
END:VEVENT
END:VCALENDAR
